BEGIN:VCALENDAR
VERSION:2.0
PRODID:-//Kreisbrandinspektion Miltenberg - ECPv6.3.2//NONSGML v1.0//EN
CALSCALE:GREGORIAN
METHOD:PUBLISH
X-WR-CALNAME:Kreisbrandinspektion Miltenberg
X-ORIGINAL-URL:https://kbi-mil.de
X-WR-CALDESC:Veranstaltungen für Kreisbrandinspektion Miltenberg
REFRESH-INTERVAL;VALUE=DURATION:PT1H
X-Robots-Tag:noindex
X-PUBLISHED-TTL:PT1H
BEGIN:VTIMEZONE
TZID:Europe/Berlin
BEGIN:DAYLIGHT
TZOFFSETFROM:+0100
TZOFFSETTO:+0200
TZNAME:CEST
DTSTART:20240331T010000
END:DAYLIGHT
BEGIN:STANDARD
TZOFFSETFROM:+0200
TZOFFSETTO:+0100
TZNAME:CET
DTSTART:20241027T010000
END:STANDARD
END:VTIMEZONE
BEGIN:VEVENT
DTSTART;TZID=Europe/Berlin:20240113T190000
DTEND;TZID=Europe/Berlin:20240113T213000
DTSTAMP:20260425T162531
CREATED:20230114T200228Z
LAST-MODIFIED:20240112T083230Z
UID:31440-1705172400-1705181400@kbi-mil.de
SUMMARY:JHV FF Leidersbach
DESCRIPTION:
URL:https://kbi-mil.de/event/jhv-ff-leidersbach-2
LOCATION:Feuerwehrhaus Leidersbach
CATEGORIES:KBI
END:VEVENT
BEGIN:VEVENT
DTSTART;TZID=Europe/Berlin:20240113T193000
DTEND;TZID=Europe/Berlin:20240113T220000
DTSTAMP:20260425T162531
CREATED:20231018T182444Z
LAST-MODIFIED:20240112T163217Z
UID:37546-1705174200-1705183200@kbi-mil.de
SUMMARY:Generalversammlung FF Collenberg (Wahlen)
DESCRIPTION:
URL:https://kbi-mil.de/event/generalversammlung-ff-collenberg-wahlen
CATEGORIES:KBI
END:VEVENT
END:VCALENDAR