BEGIN:VCALENDAR
VERSION:2.0
PRODID:-//Kreisbrandinspektion Miltenberg - ECPv6.3.2//NONSGML v1.0//EN
CALSCALE:GREGORIAN
METHOD:PUBLISH
X-ORIGINAL-URL:https://kbi-mil.de
X-WR-CALDESC:Veranstaltungen für Kreisbrandinspektion Miltenberg
REFRESH-INTERVAL;VALUE=DURATION:PT1H
X-Robots-Tag:noindex
X-PUBLISHED-TTL:PT1H
BEGIN:VTIMEZONE
TZID:Europe/Berlin
BEGIN:DAYLIGHT
TZOFFSETFROM:+0100
TZOFFSETTO:+0200
TZNAME:CEST
DTSTART:20240331T010000
END:DAYLIGHT
BEGIN:STANDARD
TZOFFSETFROM:+0200
TZOFFSETTO:+0100
TZNAME:CET
DTSTART:20241027T010000
END:STANDARD
END:VTIMEZONE
BEGIN:VEVENT
DTSTART;TZID=Europe/Berlin:20240221T170000
DTEND;TZID=Europe/Berlin:20240221T190000
DTSTAMP:20260425T133935
CREATED:20240107T181709Z
LAST-MODIFIED:20240217T003248Z
UID:40005-1708534800-1708542000@kbi-mil.de
SUMMARY:Abnahme Kinderflämmchen
DESCRIPTION:
URL:https://kbi-mil.de/event/abnahme-kinderflaemmchen
LOCATION:Freiwillige Feuerwehr Trennfurt (Flußweg 8\, \, 63911 Trennfurt Bavaria\, Deutschland)
CATEGORIES:KBI
END:VEVENT
BEGIN:VEVENT
DTSTART;TZID=Europe/Berlin:20240221T190000
DTEND;TZID=Europe/Berlin:20240221T210000
DTSTAMP:20260425T133935
CREATED:20231009T150223Z
LAST-MODIFIED:20240217T003248Z
UID:37290-1708542000-1708549200@kbi-mil.de
SUMMARY:Inspektionssitzung mit Kreisjugend
DESCRIPTION:
URL:https://kbi-mil.de/event/inspektionssitzung-20
LOCATION:Feuerwehrhaus Kleinheubach
CATEGORIES:KBI
END:VEVENT
END:VCALENDAR