BEGIN:VCALENDAR
VERSION:2.0
PRODID:-//Kreisbrandinspektion Miltenberg - ECPv6.3.2//NONSGML v1.0//EN
CALSCALE:GREGORIAN
METHOD:PUBLISH
X-ORIGINAL-URL:https://kbi-mil.de
X-WR-CALDESC:Veranstaltungen für Kreisbrandinspektion Miltenberg
REFRESH-INTERVAL;VALUE=DURATION:PT1H
X-Robots-Tag:noindex
X-PUBLISHED-TTL:PT1H
BEGIN:VTIMEZONE
TZID:Europe/Berlin
BEGIN:DAYLIGHT
TZOFFSETFROM:+0100
TZOFFSETTO:+0200
TZNAME:CEST
DTSTART:20240331T010000
END:DAYLIGHT
BEGIN:STANDARD
TZOFFSETFROM:+0200
TZOFFSETTO:+0100
TZNAME:CET
DTSTART:20241027T010000
END:STANDARD
END:VTIMEZONE
BEGIN:VEVENT
DTSTART;TZID=Europe/Berlin:20240306T170000
DTEND;TZID=Europe/Berlin:20240306T190000
DTSTAMP:20260421T231324
CREATED:20240107T181709Z
LAST-MODIFIED:20240306T174726Z
UID:40007-1709744400-1709751600@kbi-mil.de
SUMMARY:Abnahme Kinderflämmchen
DESCRIPTION:
URL:https://kbi-mil.de/event/abnahme-kinderflaemmchen-2
LOCATION:Freiwillige Feuerwehr Bürgstadt (Brückenstr. 21\, \, 63927 Bürgstadt Bayern\, Deutschland)
CATEGORIES:KBI
END:VEVENT
BEGIN:VEVENT
DTSTART;TZID=Europe/Berlin:20240306T190000
DTEND;TZID=Europe/Berlin:20240306T213000
DTSTAMP:20260421T231324
CREATED:20231201T193220Z
LAST-MODIFIED:20240306T201709Z
UID:38829-1709751600-1709760600@kbi-mil.de
SUMMARY:Planübung KBM-Bereich 2/4
DESCRIPTION:
URL:https://kbi-mil.de/event/planuebung-kbm-bereich-2-4
LOCATION:Feuerwehrhaus Neuenbuch
CATEGORIES:KBI
END:VEVENT
END:VCALENDAR