BEGIN:VCALENDAR
VERSION:2.0
PRODID:-//Kreisbrandinspektion Miltenberg - ECPv6.3.2//NONSGML v1.0//EN
CALSCALE:GREGORIAN
METHOD:PUBLISH
X-ORIGINAL-URL:https://kbi-mil.de
X-WR-CALDESC:Veranstaltungen für Kreisbrandinspektion Miltenberg
REFRESH-INTERVAL;VALUE=DURATION:PT1H
X-Robots-Tag:noindex
X-PUBLISHED-TTL:PT1H
BEGIN:VTIMEZONE
TZID:Europe/Berlin
BEGIN:DAYLIGHT
TZOFFSETFROM:+0100
TZOFFSETTO:+0200
TZNAME:CEST
DTSTART:20240331T010000
END:DAYLIGHT
BEGIN:STANDARD
TZOFFSETFROM:+0200
TZOFFSETTO:+0100
TZNAME:CET
DTSTART:20241027T010000
END:STANDARD
END:VTIMEZONE
BEGIN:VEVENT
DTSTART;TZID=Europe/Berlin:20240315T080000
DTEND;TZID=Europe/Berlin:20240315T170000
DTSTAMP:20260422T002405
CREATED:20240131T194711Z
LAST-MODIFIED:20240217T003249Z
UID:40750-1710489600-1710522000@kbi-mil.de
SUMMARY:Erste Hilfe Kurs - in zwei Terminen (Do / Fr)
DESCRIPTION:
URL:https://kbi-mil.de/event/erste-hilfe-kurs-in-zwei-terminen-do-fr-2
LOCATION:Feuerwehrgerätehaus Miltenberg\, Mainstr. 9\, 63897 Miltenberg
CATEGORIES:KBI
END:VEVENT
BEGIN:VEVENT
DTSTART;TZID=Europe/Berlin:20240315T180000
DTEND;TZID=Europe/Berlin:20240315T210000
DTSTAMP:20260422T002405
CREATED:20240302T213959Z
LAST-MODIFIED:20240311T041804Z
UID:41267-1710525600-1710536400@kbi-mil.de
SUMMARY:Infoveranstaltung Rechtssicherer und Ganzheitlich-ökologischer Umgang mit „Ölspuren“
DESCRIPTION:
URL:https://kbi-mil.de/event/infoveranstaltung-rechtssicherer-und-ganzheitlich-oekologischer-umgang-mit-oelspuren
LOCATION:Feuerwehrhaus Bürgstadt
CATEGORIES:KBI
END:VEVENT
BEGIN:VEVENT
DTSTART;TZID=Europe/Berlin:20240315T190000
DTEND;TZID=Europe/Berlin:20240315T210000
DTSTAMP:20260422T002405
CREATED:20231030T181714Z
LAST-MODIFIED:20240311T123208Z
UID:37936-1710529200-1710536400@kbi-mil.de
SUMMARY:Frühjahrsdienstversammlung der Kinder- und Jugendfeuerwehren
DESCRIPTION:
URL:https://kbi-mil.de/event/fruehjahrstagung-kreisjugend
CATEGORIES:KBI
END:VEVENT
BEGIN:VEVENT
DTSTART;TZID=Europe/Berlin:20240315T190000
DTEND;TZID=Europe/Berlin:20240315T210000
DTSTAMP:20260422T002405
CREATED:20240311T144717Z
LAST-MODIFIED:20240315T191733Z
UID:41605-1710529200-1710536400@kbi-mil.de
SUMMARY:Frühjahrsdienstversammlung der Kinder und Jugendfeuerwehr Landkreis Miltenberg
DESCRIPTION:
URL:https://kbi-mil.de/event/fruehjahrsdienstversammlung-der-kinder-und-jugendfeuerwehr-landkreis-miltenberg
LOCATION:Gemeinschaftshaus (Hofwiese 9\, \, 63920 Grossheubach Bayern\, Deutschland)
CATEGORIES:KBI
END:VEVENT
END:VCALENDAR