BEGIN:VCALENDAR
VERSION:2.0
PRODID:-//Kreisbrandinspektion Miltenberg - ECPv6.3.2//NONSGML v1.0//EN
CALSCALE:GREGORIAN
METHOD:PUBLISH
X-WR-CALNAME:Kreisbrandinspektion Miltenberg
X-ORIGINAL-URL:https://kbi-mil.de
X-WR-CALDESC:Veranstaltungen für Kreisbrandinspektion Miltenberg
REFRESH-INTERVAL;VALUE=DURATION:PT1H
X-Robots-Tag:noindex
X-PUBLISHED-TTL:PT1H
BEGIN:VTIMEZONE
TZID:Europe/Berlin
BEGIN:DAYLIGHT
TZOFFSETFROM:+0100
TZOFFSETTO:+0200
TZNAME:CEST
DTSTART:20240331T010000
END:DAYLIGHT
BEGIN:STANDARD
TZOFFSETFROM:+0200
TZOFFSETTO:+0100
TZNAME:CET
DTSTART:20241027T010000
END:STANDARD
END:VTIMEZONE
BEGIN:VEVENT
DTSTART;TZID=Europe/Berlin:20240316T090000
DTEND;TZID=Europe/Berlin:20240316T130000
DTSTAMP:20260421T232228
CREATED:20240130T194711Z
LAST-MODIFIED:20240217T003250Z
UID:40707-1710579600-1710594000@kbi-mil.de
SUMMARY:MTA-Abschlussprüfung
DESCRIPTION:
URL:https://kbi-mil.de/event/mta-abschlusspruefung-10
CATEGORIES:KBI
END:VEVENT
BEGIN:VEVENT
DTSTART;TZID=Europe/Berlin:20240316T090000
DTEND;TZID=Europe/Berlin:20240316T160000
DTSTAMP:20260421T232228
CREATED:20240302T214000Z
LAST-MODIFIED:20240316T141733Z
UID:41269-1710579600-1710604800@kbi-mil.de
SUMMARY:THL Seminar Schwer
DESCRIPTION:
URL:https://kbi-mil.de/event/thl-seminar-schwer
LOCATION:Übungsgelände der Feuerwehr der Stadt Klingenberg (Gänserain 8\, \, 63911 Klingenberg am Main Germany\, Deutschland)
CATEGORIES:KBI
END:VEVENT
END:VCALENDAR