BEGIN:VCALENDAR
VERSION:2.0
PRODID:-//Kreisbrandinspektion Miltenberg - ECPv6.3.2//NONSGML v1.0//EN
CALSCALE:GREGORIAN
METHOD:PUBLISH
X-ORIGINAL-URL:https://kbi-mil.de
X-WR-CALDESC:Veranstaltungen für Kreisbrandinspektion Miltenberg
REFRESH-INTERVAL;VALUE=DURATION:PT1H
X-Robots-Tag:noindex
X-PUBLISHED-TTL:PT1H
BEGIN:VTIMEZONE
TZID:Europe/Berlin
BEGIN:DAYLIGHT
TZOFFSETFROM:+0100
TZOFFSETTO:+0200
TZNAME:CEST
DTSTART:20240331T010000
END:DAYLIGHT
BEGIN:STANDARD
TZOFFSETFROM:+0200
TZOFFSETTO:+0100
TZNAME:CET
DTSTART:20241027T010000
END:STANDARD
END:VTIMEZONE
BEGIN:VEVENT
DTSTART;TZID=Europe/Berlin:20240317T083000
DTEND;TZID=Europe/Berlin:20240317T103000
DTSTAMP:20260421T230647
CREATED:20230316T231810Z
LAST-MODIFIED:20230502T135148Z
UID:32346-1710664200-1710671400@kbi-mil.de
SUMMARY:Kommandantendienstversammlung
DESCRIPTION:
URL:https://kbi-mil.de/event/kommandantendienstversammlung
CATEGORIES:KBI
END:VEVENT
BEGIN:VEVENT
DTSTART;TZID=Europe/Berlin:20240317T083000
DTEND;TZID=Europe/Berlin:20240317T103000
DTSTAMP:20260421T230647
CREATED:20230316T231810Z
LAST-MODIFIED:20240317T083230Z
UID:32347-1710664200-1710671400@kbi-mil.de
SUMMARY:Kommandantendienstversammlung
DESCRIPTION:
URL:https://kbi-mil.de/event/kommandantendienstversammlung-3
LOCATION:Hans-Herrmann-Halle (Schulstr. 4\, \, 63843 Niedernberg Bavaria\, Deutschland)
CATEGORIES:KBI
END:VEVENT
BEGIN:VEVENT
DTSTART;TZID=Europe/Berlin:20240317T103000
DTEND;TZID=Europe/Berlin:20240317T120000
DTSTAMP:20260421T230647
CREATED:20230316T231810Z
LAST-MODIFIED:20230502T135148Z
UID:32348-1710671400-1710676800@kbi-mil.de
SUMMARY:Verbandsversammlung
DESCRIPTION:
URL:https://kbi-mil.de/event/verbandsversammlung-2
CATEGORIES:KBI
END:VEVENT
BEGIN:VEVENT
DTSTART;TZID=Europe/Berlin:20240317T103000
DTEND;TZID=Europe/Berlin:20240317T120000
DTSTAMP:20260421T230647
CREATED:20230316T231810Z
LAST-MODIFIED:20240317T103242Z
UID:32349-1710671400-1710676800@kbi-mil.de
SUMMARY:Verbandsversammlung
DESCRIPTION:
URL:https://kbi-mil.de/event/verbandsversammlung-3
CATEGORIES:KBI
END:VEVENT
END:VCALENDAR