BEGIN:VCALENDAR
VERSION:2.0
PRODID:-//Kreisbrandinspektion Miltenberg - ECPv6.3.2//NONSGML v1.0//EN
CALSCALE:GREGORIAN
METHOD:PUBLISH
X-WR-CALNAME:Kreisbrandinspektion Miltenberg
X-ORIGINAL-URL:https://kbi-mil.de
X-WR-CALDESC:Veranstaltungen für Kreisbrandinspektion Miltenberg
REFRESH-INTERVAL;VALUE=DURATION:PT1H
X-Robots-Tag:noindex
X-PUBLISHED-TTL:PT1H
BEGIN:VTIMEZONE
TZID:Europe/Berlin
BEGIN:DAYLIGHT
TZOFFSETFROM:+0100
TZOFFSETTO:+0200
TZNAME:CEST
DTSTART:20240331T010000
END:DAYLIGHT
BEGIN:STANDARD
TZOFFSETFROM:+0200
TZOFFSETTO:+0100
TZNAME:CET
DTSTART:20241027T010000
END:STANDARD
END:VTIMEZONE
BEGIN:VEVENT
DTSTART;TZID=Europe/Berlin:20240323T090000
DTEND;TZID=Europe/Berlin:20240323T170000
DTSTAMP:20260421T232225
CREATED:20240131T194712Z
LAST-MODIFIED:20240217T003250Z
UID:40751-1711184400-1711213200@kbi-mil.de
SUMMARY:Erste Hilfe Kurs - in zwei Terminen (Sa / So)
DESCRIPTION:
URL:https://kbi-mil.de/event/erste-hilfe-kurs-in-zwei-terminen-sa-so-3
CATEGORIES:KBI
END:VEVENT
BEGIN:VEVENT
DTSTART;TZID=Europe/Berlin:20240323T160000
DTEND;TZID=Europe/Berlin:20240323T200000
DTSTAMP:20260421T232225
CREATED:20240109T093231Z
LAST-MODIFIED:20240323T184747Z
UID:40135-1711209600-1711224000@kbi-mil.de
SUMMARY:KJFW Besprechung Kreiszeltlager 2025
DESCRIPTION:
URL:https://kbi-mil.de/event/kjfw-besprechung-kreiszeltlager-2025
LOCATION:Eichelsbach
CATEGORIES:KBI
END:VEVENT
END:VCALENDAR