BEGIN:VCALENDAR
VERSION:2.0
PRODID:-//Kreisbrandinspektion Miltenberg - ECPv6.3.2//NONSGML v1.0//EN
CALSCALE:GREGORIAN
METHOD:PUBLISH
X-WR-CALNAME:Kreisbrandinspektion Miltenberg
X-ORIGINAL-URL:https://kbi-mil.de
X-WR-CALDESC:Veranstaltungen für Kreisbrandinspektion Miltenberg
REFRESH-INTERVAL;VALUE=DURATION:PT1H
X-Robots-Tag:noindex
X-PUBLISHED-TTL:PT1H
BEGIN:VTIMEZONE
TZID:Europe/Berlin
BEGIN:DAYLIGHT
TZOFFSETFROM:+0100
TZOFFSETTO:+0200
TZNAME:CEST
DTSTART:20240331T010000
END:DAYLIGHT
BEGIN:STANDARD
TZOFFSETFROM:+0200
TZOFFSETTO:+0100
TZNAME:CET
DTSTART:20241027T010000
END:STANDARD
END:VTIMEZONE
BEGIN:VEVENT
DTSTART;TZID=Europe/Berlin:20240412T180000
DTEND;TZID=Europe/Berlin:20240412T193000
DTSTAMP:20260423T111128
CREATED:20240302T214004Z
LAST-MODIFIED:20240405T170555Z
UID:41275-1712944800-1712950200@kbi-mil.de
SUMMARY:! VERLEGT ! Leistungsprüfung Wasser FF Amorbach
DESCRIPTION:
URL:https://kbi-mil.de/event/leistungspruefung-wasser-ff-amorbach
LOCATION:Altstadtparkplatz am Schwimmbad\, Amorbach
CATEGORIES:KBI
END:VEVENT
END:VCALENDAR