BEGIN:VCALENDAR
VERSION:2.0
PRODID:-//Kreisbrandinspektion Miltenberg - ECPv6.3.2//NONSGML v1.0//EN
CALSCALE:GREGORIAN
METHOD:PUBLISH
X-WR-CALNAME:Kreisbrandinspektion Miltenberg
X-ORIGINAL-URL:https://kbi-mil.de
X-WR-CALDESC:Veranstaltungen für Kreisbrandinspektion Miltenberg
REFRESH-INTERVAL;VALUE=DURATION:PT1H
X-Robots-Tag:noindex
X-PUBLISHED-TTL:PT1H
BEGIN:VTIMEZONE
TZID:Europe/Berlin
BEGIN:DAYLIGHT
TZOFFSETFROM:+0100
TZOFFSETTO:+0200
TZNAME:CEST
DTSTART:20240331T010000
END:DAYLIGHT
BEGIN:STANDARD
TZOFFSETFROM:+0200
TZOFFSETTO:+0100
TZNAME:CET
DTSTART:20241027T010000
END:STANDARD
END:VTIMEZONE
BEGIN:VEVENT
DTSTART;TZID=Europe/Berlin:20240420T100000
DTEND;TZID=Europe/Berlin:20240420T130000
DTSTAMP:20260423T124604
CREATED:20231031T183217Z
LAST-MODIFIED:20240420T105048Z
UID:37971-1713607200-1713618000@kbi-mil.de
SUMMARY:Bayerische Jugendleistungsprüfung
DESCRIPTION:
URL:https://kbi-mil.de/event/bayerische-jugendleistungspruefung
LOCATION:Freiwillige Feuerwehr Kleinwallstadt 1876 e.V. (Ostring 112\, \, 63839 Kleinwallstadt Bayern\, Deutschland)
CATEGORIES:KBI
END:VEVENT
END:VCALENDAR