BEGIN:VCALENDAR
VERSION:2.0
PRODID:-//Kreisbrandinspektion Miltenberg - ECPv6.3.2//NONSGML v1.0//EN
CALSCALE:GREGORIAN
METHOD:PUBLISH
X-WR-CALNAME:Kreisbrandinspektion Miltenberg
X-ORIGINAL-URL:https://kbi-mil.de
X-WR-CALDESC:Veranstaltungen für Kreisbrandinspektion Miltenberg
REFRESH-INTERVAL;VALUE=DURATION:PT1H
X-Robots-Tag:noindex
X-PUBLISHED-TTL:PT1H
BEGIN:VTIMEZONE
TZID:Europe/Berlin
BEGIN:DAYLIGHT
TZOFFSETFROM:+0100
TZOFFSETTO:+0200
TZNAME:CEST
DTSTART:20240331T010000
END:DAYLIGHT
BEGIN:STANDARD
TZOFFSETFROM:+0200
TZOFFSETTO:+0100
TZNAME:CET
DTSTART:20241027T010000
END:STANDARD
END:VTIMEZONE
BEGIN:VEVENT
DTSTART;TZID=Europe/Berlin:20240427T100000
DTEND;TZID=Europe/Berlin:20240427T120000
DTSTAMP:20260423T111118
CREATED:20240106T094723Z
LAST-MODIFIED:20240427T090609Z
UID:39947-1714212000-1714219200@kbi-mil.de
SUMMARY:Abnahme Jugendflamme
DESCRIPTION:
URL:https://kbi-mil.de/event/abnahme-jugendflamme-2
LOCATION:Mömlingen
CATEGORIES:KBI
END:VEVENT
BEGIN:VEVENT
DTSTART;TZID=Europe/Berlin:20240427T140000
DTEND;TZID=Europe/Berlin:20240427T160000
DTSTAMP:20260423T111118
CREATED:20240302T214005Z
LAST-MODIFIED:20240427T132053Z
UID:41285-1714226400-1714233600@kbi-mil.de
SUMMARY:Leistungsprüfung THL FF Mönchberg\, FF Schmachtenberg und FF Röllbach
DESCRIPTION:
URL:https://kbi-mil.de/event/leistungspruefung-thl-ff-moenchberg-ff-schmachtenberg-und-ff-roellbach
LOCATION:Feuerwehrhaus Mönchberg
CATEGORIES:KBI
END:VEVENT
END:VCALENDAR