BEGIN:VCALENDAR
VERSION:2.0
PRODID:-//Kreisbrandinspektion Miltenberg - ECPv6.3.2//NONSGML v1.0//EN
CALSCALE:GREGORIAN
METHOD:PUBLISH
X-ORIGINAL-URL:https://kbi-mil.de
X-WR-CALDESC:Veranstaltungen für Kreisbrandinspektion Miltenberg
REFRESH-INTERVAL;VALUE=DURATION:PT1H
X-Robots-Tag:noindex
X-PUBLISHED-TTL:PT1H
BEGIN:VTIMEZONE
TZID:Europe/Berlin
BEGIN:DAYLIGHT
TZOFFSETFROM:+0100
TZOFFSETTO:+0200
TZNAME:CEST
DTSTART:20240331T010000
END:DAYLIGHT
BEGIN:STANDARD
TZOFFSETFROM:+0200
TZOFFSETTO:+0100
TZNAME:CET
DTSTART:20241027T010000
END:STANDARD
END:VTIMEZONE
BEGIN:VEVENT
DTSTART;VALUE=DATE:20240504
DTEND;VALUE=DATE:20240505
DTSTAMP:20260423T124851
CREATED:20231030T181715Z
LAST-MODIFIED:20240504T233548Z
UID:37938-1714780800-1714867199@kbi-mil.de
SUMMARY:Actionday
DESCRIPTION:
URL:https://kbi-mil.de/event/actionday
LOCATION:Roßbach
CATEGORIES:KBI
END:VEVENT
BEGIN:VEVENT
DTSTART;TZID=Europe/Berlin:20240504T090000
DTEND;TZID=Europe/Berlin:20240504T170000
DTSTAMP:20260423T124851
CREATED:20240131T194714Z
LAST-MODIFIED:20240504T140520Z
UID:40755-1714813200-1714842000@kbi-mil.de
SUMMARY:Erste Hilfe Kurs - in zwei Terminen (Sa / So)
DESCRIPTION:
URL:https://kbi-mil.de/event/erste-hilfe-kurs-in-zwei-terminen-sa-so-7
CATEGORIES:KBI
END:VEVENT
END:VCALENDAR