BEGIN:VCALENDAR
VERSION:2.0
PRODID:-//Kreisbrandinspektion Miltenberg - ECPv6.3.2//NONSGML v1.0//EN
CALSCALE:GREGORIAN
METHOD:PUBLISH
X-WR-CALNAME:Kreisbrandinspektion Miltenberg
X-ORIGINAL-URL:https://kbi-mil.de
X-WR-CALDESC:Veranstaltungen für Kreisbrandinspektion Miltenberg
REFRESH-INTERVAL;VALUE=DURATION:PT1H
X-Robots-Tag:noindex
X-PUBLISHED-TTL:PT1H
BEGIN:VTIMEZONE
TZID:Europe/Berlin
BEGIN:DAYLIGHT
TZOFFSETFROM:+0100
TZOFFSETTO:+0200
TZNAME:CEST
DTSTART:20240331T010000
END:DAYLIGHT
BEGIN:STANDARD
TZOFFSETFROM:+0200
TZOFFSETTO:+0100
TZNAME:CET
DTSTART:20241027T010000
END:STANDARD
END:VTIMEZONE
BEGIN:VEVENT
DTSTART;VALUE=DATE:20240607
DTEND;VALUE=DATE:20240610
DTSTAMP:20260423T155016
CREATED:20230606T221746Z
LAST-MODIFIED:20240609T233522Z
UID:34217-1717718400-1717977599@kbi-mil.de
SUMMARY:150 Jahre Feuerwehr Wörth
DESCRIPTION:
URL:https://kbi-mil.de/event/150-jahre-feuerwehr-woerth-2
CATEGORIES:KBI
END:VEVENT
BEGIN:VEVENT
DTSTART;VALUE=DATE:20240607
DTEND;VALUE=DATE:20240610
DTSTAMP:20260423T155016
CREATED:20230606T221747Z
LAST-MODIFIED:20240609T233522Z
UID:34218-1717718400-1717977599@kbi-mil.de
SUMMARY:150 Jahre FF Breitendiel
DESCRIPTION:
URL:https://kbi-mil.de/event/150-jahre-ff-breitendiel
CATEGORIES:KBI
END:VEVENT
BEGIN:VEVENT
DTSTART;VALUE=DATE:20240608
DTEND;VALUE=DATE:20240609
DTSTAMP:20260423T155016
CREATED:20231207T170237Z
LAST-MODIFIED:20240608T235033Z
UID:38989-1717804800-1717891199@kbi-mil.de
SUMMARY:Jugendwettspiele Feuerwehr Breitendiel
DESCRIPTION:
URL:https://kbi-mil.de/event/jugendwettspiele-feuerwehr-breitendiel
LOCATION:Breitendiel (63897 Miltenberg Bayern\, Deutschland)
CATEGORIES:KBI
END:VEVENT
BEGIN:VEVENT
DTSTART;TZID=Europe/Berlin:20240608T100000
DTEND;TZID=Europe/Berlin:20240608T120000
DTSTAMP:20260423T155017
CREATED:20240107T181713Z
LAST-MODIFIED:20240608T092033Z
UID:40014-1717840800-1717848000@kbi-mil.de
SUMMARY:Abnahme Kinderflämmchen
DESCRIPTION:
URL:https://kbi-mil.de/event/abnahme-kinderflaemmchen-6
LOCATION:Miltenberg
CATEGORIES:KBI
END:VEVENT
END:VCALENDAR