BEGIN:VCALENDAR
VERSION:2.0
PRODID:-//Kreisbrandinspektion Miltenberg - ECPv6.3.2//NONSGML v1.0//EN
CALSCALE:GREGORIAN
METHOD:PUBLISH
X-WR-CALNAME:Kreisbrandinspektion Miltenberg
X-ORIGINAL-URL:https://kbi-mil.de
X-WR-CALDESC:Veranstaltungen für Kreisbrandinspektion Miltenberg
REFRESH-INTERVAL;VALUE=DURATION:PT1H
X-Robots-Tag:noindex
X-PUBLISHED-TTL:PT1H
BEGIN:VTIMEZONE
TZID:Europe/Berlin
BEGIN:DAYLIGHT
TZOFFSETFROM:+0100
TZOFFSETTO:+0200
TZNAME:CEST
DTSTART:20240331T010000
END:DAYLIGHT
BEGIN:STANDARD
TZOFFSETFROM:+0200
TZOFFSETTO:+0100
TZNAME:CET
DTSTART:20241027T010000
END:STANDARD
END:VTIMEZONE
BEGIN:VEVENT
DTSTART;VALUE=DATE:20240629
DTEND;VALUE=DATE:20240701
DTSTAMP:20260425T130745
CREATED:20240605T172031Z
LAST-MODIFIED:20240611T223756Z
UID:43986-1719619200-1719791999@kbi-mil.de
SUMMARY:Tag der offenen Türe FF Mechenhard
DESCRIPTION:
URL:https://kbi-mil.de/event/tag-der-offenen-tuere-ff-mechenhard
CATEGORIES:KBI
END:VEVENT
BEGIN:VEVENT
DTSTART;TZID=Europe/Berlin:20240629T100000
DTEND;TZID=Europe/Berlin:20240629T120000
DTSTAMP:20260425T130745
CREATED:20240106T094725Z
LAST-MODIFIED:20240611T223755Z
UID:39951-1719655200-1719662400@kbi-mil.de
SUMMARY:Abnahme Jugendflamme
DESCRIPTION:
URL:https://kbi-mil.de/event/abnahme-jugendflamme-5
LOCATION:Eschau / Hobbach
CATEGORIES:KBI
END:VEVENT
BEGIN:VEVENT
DTSTART;TZID=Europe/Berlin:20240629T100000
DTEND;TZID=Europe/Berlin:20240629T120000
DTSTAMP:20260425T130746
CREATED:20240107T181714Z
LAST-MODIFIED:20240611T223756Z
UID:40017-1719655200-1719662400@kbi-mil.de
SUMMARY:Abnahme Kinderflämmchen
DESCRIPTION:
URL:https://kbi-mil.de/event/abnahme-kinderflaemmchen-8
LOCATION:Freiwillige Feuerwehr Kleinwallstadt 1876 e.V. (Ostring 112\, \, 63839 Kleinwallstadt Bayern\, Deutschland)
CATEGORIES:KBI
END:VEVENT
BEGIN:VEVENT
DTSTART;TZID=Europe/Berlin:20240629T130000
DTEND;TZID=Europe/Berlin:20240629T150000
DTSTAMP:20260425T130746
CREATED:20240302T214009Z
LAST-MODIFIED:20240611T223756Z
UID:41297-1719666000-1719673200@kbi-mil.de
SUMMARY:Leistungsprüfung Wasser FF Faulbach\, FF Neuenbuch und FF Breitenbrunn
DESCRIPTION:
URL:https://kbi-mil.de/event/leistungspruefung-wasser-ff-faulbach
LOCATION:Feuerwehrhaus Faulbauch
CATEGORIES:KBI
END:VEVENT
END:VCALENDAR