BEGIN:VCALENDAR
VERSION:2.0
PRODID:-//Kreisbrandinspektion Miltenberg - ECPv6.3.2//NONSGML v1.0//EN
CALSCALE:GREGORIAN
METHOD:PUBLISH
X-ORIGINAL-URL:https://kbi-mil.de
X-WR-CALDESC:Veranstaltungen für Kreisbrandinspektion Miltenberg
REFRESH-INTERVAL;VALUE=DURATION:PT1H
X-Robots-Tag:noindex
X-PUBLISHED-TTL:PT1H
BEGIN:VTIMEZONE
TZID:Europe/Berlin
BEGIN:DAYLIGHT
TZOFFSETFROM:+0100
TZOFFSETTO:+0200
TZNAME:CEST
DTSTART:20240331T010000
END:DAYLIGHT
BEGIN:STANDARD
TZOFFSETFROM:+0200
TZOFFSETTO:+0100
TZNAME:CET
DTSTART:20241027T010000
END:STANDARD
END:VTIMEZONE
BEGIN:VEVENT
DTSTART;VALUE=DATE:20240712
DTEND;VALUE=DATE:20240716
DTSTAMP:20260425T145556
CREATED:20231027T113008Z
LAST-MODIFIED:20240715T230523Z
UID:37797-1720742400-1721087999@kbi-mil.de
SUMMARY:Straßen und Hoffest Bürgstadt
DESCRIPTION:
URL:https://kbi-mil.de/event/strassen-und-hoffest-buergstadt
LOCATION:Bürgstadt
CATEGORIES:KBI
END:VEVENT
BEGIN:VEVENT
DTSTART;VALUE=DATE:20240713
DTEND;VALUE=DATE:20240715
DTSTAMP:20260425T145556
CREATED:20230924T121808Z
LAST-MODIFIED:20240714T232037Z
UID:36965-1720828800-1721001599@kbi-mil.de
SUMMARY:125 Jahre Feuerwehr Boxbrunn
DESCRIPTION:
URL:https://kbi-mil.de/event/125-jahre-feuerwehr-boxbrunn
CATEGORIES:KBI
END:VEVENT
BEGIN:VEVENT
DTSTART;TZID=Europe/Berlin:20240713T090000
DTEND;TZID=Europe/Berlin:20240713T130000
DTSTAMP:20260425T145556
CREATED:20240130T194717Z
LAST-MODIFIED:20240713T103530Z
UID:40709-1720861200-1720875600@kbi-mil.de
SUMMARY:MTA-Abschlussprüfung
DESCRIPTION:
URL:https://kbi-mil.de/event/mta-abschlusspruefung-11
LOCATION:Weckbach
CATEGORIES:KBI
END:VEVENT
BEGIN:VEVENT
DTSTART;TZID=Europe/Berlin:20240713T090000
DTEND;TZID=Europe/Berlin:20240713T160000
DTSTAMP:20260425T145556
CREATED:20240302T214011Z
LAST-MODIFIED:20240713T130516Z
UID:41300-1720861200-1720886400@kbi-mil.de
SUMMARY:THL Seminar Bauunfall
DESCRIPTION:
URL:https://kbi-mil.de/event/thl-seminar-bauunfall-2
LOCATION:Übungsgelände der Feuerwehr der Stadt Klingenberg (Gänserain 8\, \, 63911 Klingenberg am Main Germany\, Deutschland)
CATEGORIES:KBI
END:VEVENT
BEGIN:VEVENT
DTSTART;TZID=Europe/Berlin:20240713T100000
DTEND;TZID=Europe/Berlin:20240713T120000
DTSTAMP:20260425T145556
CREATED:20240106T104746Z
LAST-MODIFIED:20240713T093516Z
UID:39958-1720864800-1720872000@kbi-mil.de
SUMMARY:Abnahme Jugendflamme
DESCRIPTION:
URL:https://kbi-mil.de/event/abnahme-jugendflamme-6
LOCATION:Miltenberg
CATEGORIES:KBI
END:VEVENT
END:VCALENDAR