BEGIN:VCALENDAR
VERSION:2.0
PRODID:-//Kreisbrandinspektion Miltenberg - ECPv6.3.2//NONSGML v1.0//EN
CALSCALE:GREGORIAN
METHOD:PUBLISH
X-ORIGINAL-URL:https://kbi-mil.de
X-WR-CALDESC:Veranstaltungen für Kreisbrandinspektion Miltenberg
REFRESH-INTERVAL;VALUE=DURATION:PT1H
X-Robots-Tag:noindex
X-PUBLISHED-TTL:PT1H
BEGIN:VTIMEZONE
TZID:Europe/Berlin
BEGIN:DAYLIGHT
TZOFFSETFROM:+0100
TZOFFSETTO:+0200
TZNAME:CEST
DTSTART:20240331T010000
END:DAYLIGHT
BEGIN:STANDARD
TZOFFSETFROM:+0200
TZOFFSETTO:+0100
TZNAME:CET
DTSTART:20241027T010000
END:STANDARD
END:VTIMEZONE
BEGIN:VEVENT
DTSTART;VALUE=DATE:20240719
DTEND;VALUE=DATE:20240723
DTSTAMP:20260425T181533
CREATED:20230718T223335Z
LAST-MODIFIED:20240722T223518Z
UID:35370-1721347200-1721692799@kbi-mil.de
SUMMARY:150 Jahre FF Kirchzell
DESCRIPTION:
URL:https://kbi-mil.de/event/150-jahre-ff-kirchzell
CATEGORIES:KBI
END:VEVENT
BEGIN:VEVENT
DTSTART;TZID=Europe/Berlin:20240719T170000
DTEND;TZID=Europe/Berlin:20240719T190000
DTSTAMP:20260425T181533
CREATED:20240107T191720Z
LAST-MODIFIED:20240719T162032Z
UID:40042-1721408400-1721415600@kbi-mil.de
SUMMARY:Abnahme Kinderflämmchen
DESCRIPTION:
URL:https://kbi-mil.de/event/abnahme-kinderflaemmchen-12
LOCATION:Mechenhard
CATEGORIES:KBI
END:VEVENT
BEGIN:VEVENT
DTSTART;TZID=Europe/Berlin:20240719T190000
DTEND;TZID=Europe/Berlin:20240719T210000
DTSTAMP:20260425T181533
CREATED:20240106T104746Z
LAST-MODIFIED:20240719T183534Z
UID:39961-1721415600-1721422800@kbi-mil.de
SUMMARY:Abnahme Jugendflamme
DESCRIPTION:
URL:https://kbi-mil.de/event/abnahme-jugendflamme-8
LOCATION:Kleinheubach
CATEGORIES:KBI
END:VEVENT
END:VCALENDAR