BEGIN:VCALENDAR
VERSION:2.0
PRODID:-//Kreisbrandinspektion Miltenberg - ECPv6.3.2//NONSGML v1.0//EN
CALSCALE:GREGORIAN
METHOD:PUBLISH
X-ORIGINAL-URL:https://kbi-mil.de
X-WR-CALDESC:Veranstaltungen für Kreisbrandinspektion Miltenberg
REFRESH-INTERVAL;VALUE=DURATION:PT1H
X-Robots-Tag:noindex
X-PUBLISHED-TTL:PT1H
BEGIN:VTIMEZONE
TZID:Europe/Berlin
BEGIN:DAYLIGHT
TZOFFSETFROM:+0100
TZOFFSETTO:+0200
TZNAME:CEST
DTSTART:20240331T010000
END:DAYLIGHT
BEGIN:STANDARD
TZOFFSETFROM:+0200
TZOFFSETTO:+0100
TZNAME:CET
DTSTART:20241027T010000
END:STANDARD
END:VTIMEZONE
BEGIN:VEVENT
DTSTART;VALUE=DATE:20240810
DTEND;VALUE=DATE:20240811
DTSTAMP:20260425T162651
CREATED:20240215T080222Z
LAST-MODIFIED:20240805T070530Z
UID:41154-1723248000-1723334399@kbi-mil.de
SUMMARY:Tagesseminar - Ausbildung in der Jugendfeuerwehr
DESCRIPTION:
URL:https://kbi-mil.de/event/tagesseminar-ausbildung-in-der-jugendfeuerwehr
CATEGORIES:KBI
END:VEVENT
BEGIN:VEVENT
DTSTART;TZID=Europe/Berlin:20240810T133000
DTEND;TZID=Europe/Berlin:20240810T153000
DTSTAMP:20260425T162651
CREATED:20240302T214012Z
LAST-MODIFIED:20240810T125016Z
UID:41303-1723296600-1723303800@kbi-mil.de
SUMMARY:Leistungsprüfung THL FF Mömlingen
DESCRIPTION:
URL:https://kbi-mil.de/event/leistungspruefung-thl-ff-moemlingen
LOCATION:Feuerwehrhaus Mömlingen
CATEGORIES:KBI
END:VEVENT
END:VCALENDAR