BEGIN:VCALENDAR
VERSION:2.0
PRODID:-//Kreisbrandinspektion Miltenberg - ECPv6.3.2//NONSGML v1.0//EN
CALSCALE:GREGORIAN
METHOD:PUBLISH
X-ORIGINAL-URL:https://kbi-mil.de
X-WR-CALDESC:Veranstaltungen für Kreisbrandinspektion Miltenberg
REFRESH-INTERVAL;VALUE=DURATION:PT1H
X-Robots-Tag:noindex
X-PUBLISHED-TTL:PT1H
BEGIN:VTIMEZONE
TZID:Europe/Berlin
BEGIN:DAYLIGHT
TZOFFSETFROM:+0100
TZOFFSETTO:+0200
TZNAME:CEST
DTSTART:20240331T010000
END:DAYLIGHT
BEGIN:STANDARD
TZOFFSETFROM:+0200
TZOFFSETTO:+0100
TZNAME:CET
DTSTART:20241027T010000
END:STANDARD
END:VTIMEZONE
BEGIN:VEVENT
DTSTART;TZID=Europe/Berlin:20240912T180000
DTEND;TZID=Europe/Berlin:20240912T200000
DTSTAMP:20260425T215225
CREATED:20240822T185027Z
LAST-MODIFIED:20240912T175028Z
UID:45586-1726164000-1726171200@kbi-mil.de
SUMMARY:Online Webtraining E-Mobilität und die Feuerwehr - Sensibilisierung der Einsatzkraft Teil I
DESCRIPTION:
URL:https://kbi-mil.de/event/online-webtraining-e-mobilitaet-und-die-feuerwehr-sensibilisierung-der-einsatzkraft-teil-i
LOCATION:Online-Webtraining
CATEGORIES:KBI
END:VEVENT
END:VCALENDAR