BEGIN:VCALENDAR
VERSION:2.0
PRODID:-//Kreisbrandinspektion Miltenberg - ECPv6.3.2//NONSGML v1.0//EN
CALSCALE:GREGORIAN
METHOD:PUBLISH
X-ORIGINAL-URL:https://kbi-mil.de
X-WR-CALDESC:Veranstaltungen für Kreisbrandinspektion Miltenberg
REFRESH-INTERVAL;VALUE=DURATION:PT1H
X-Robots-Tag:noindex
X-PUBLISHED-TTL:PT1H
BEGIN:VTIMEZONE
TZID:Europe/Berlin
BEGIN:DAYLIGHT
TZOFFSETFROM:+0100
TZOFFSETTO:+0200
TZNAME:CEST
DTSTART:20240331T010000
END:DAYLIGHT
BEGIN:STANDARD
TZOFFSETFROM:+0200
TZOFFSETTO:+0100
TZNAME:CET
DTSTART:20241027T010000
END:STANDARD
END:VTIMEZONE
BEGIN:VEVENT
DTSTART;VALUE=DATE:20240913
DTEND;VALUE=DATE:20240915
DTSTAMP:20260425T181632
CREATED:20231221T154757Z
LAST-MODIFIED:20240914T232028Z
UID:39338-1726185600-1726358399@kbi-mil.de
SUMMARY:LFV Verbandsversammlung
DESCRIPTION:
URL:https://kbi-mil.de/event/lfv-verbandsversammlung-2
LOCATION:München
CATEGORIES:KBI
END:VEVENT
BEGIN:VEVENT
DTSTART;TZID=Europe/Berlin:20240913T180000
DTEND;TZID=Europe/Berlin:20240913T200000
DTSTAMP:20260425T181632
CREATED:20240302T214013Z
LAST-MODIFIED:20240913T175020Z
UID:41308-1726250400-1726257600@kbi-mil.de
SUMMARY:! ABGESAGT ! Leistungsprüfung Wasser FF Schippach und FF Wenschdorf
DESCRIPTION:
URL:https://kbi-mil.de/event/leistungspruefung-wasser-ff-schippach-und-ff-wenschdorf
LOCATION:Feuerwehrhaus Schippach
CATEGORIES:KBI
END:VEVENT
END:VCALENDAR