BEGIN:VCALENDAR
VERSION:2.0
PRODID:-//Kreisbrandinspektion Miltenberg - ECPv6.3.2//NONSGML v1.0//EN
CALSCALE:GREGORIAN
METHOD:PUBLISH
X-WR-CALNAME:Kreisbrandinspektion Miltenberg
X-ORIGINAL-URL:https://kbi-mil.de
X-WR-CALDESC:Veranstaltungen für Kreisbrandinspektion Miltenberg
REFRESH-INTERVAL;VALUE=DURATION:PT1H
X-Robots-Tag:noindex
X-PUBLISHED-TTL:PT1H
BEGIN:VTIMEZONE
TZID:Europe/Berlin
BEGIN:DAYLIGHT
TZOFFSETFROM:+0100
TZOFFSETTO:+0200
TZNAME:CEST
DTSTART:20260329T010000
END:DAYLIGHT
BEGIN:STANDARD
TZOFFSETFROM:+0200
TZOFFSETTO:+0100
TZNAME:CET
DTSTART:20261025T010000
END:STANDARD
END:VTIMEZONE
BEGIN:VEVENT
DTSTART;TZID=Europe/Berlin:20260530T160000
DTEND;TZID=Europe/Berlin:20260530T180000
DTSTAMP:20260424T142109
CREATED:20251212T163519Z
LAST-MODIFIED:20260424T113533Z
UID:61298-1780156800-1780164000@kbi-mil.de
SUMMARY:Leistungsprüfung Wasser FF Neunkirchen FF Umpfenbach FF Richelbach
DESCRIPTION:
URL:https://kbi-mil.de/event/leistungspruefung-wasser-ff-neunkirchen-ff-umpfenbach-ff-richelbach
LOCATION:Bushaltestelle Umpfenbach Schloßstr.
CATEGORIES:KBI
END:VEVENT
END:VCALENDAR