BEGIN:VCALENDAR
VERSION:2.0
PRODID:-//Kreisbrandinspektion Miltenberg - ECPv6.3.2//NONSGML v1.0//EN
CALSCALE:GREGORIAN
METHOD:PUBLISH
X-ORIGINAL-URL:https://kbi-mil.de
X-WR-CALDESC:Veranstaltungen für Kreisbrandinspektion Miltenberg
REFRESH-INTERVAL;VALUE=DURATION:PT1H
X-Robots-Tag:noindex
X-PUBLISHED-TTL:PT1H
BEGIN:VTIMEZONE
TZID:Europe/Berlin
BEGIN:DAYLIGHT
TZOFFSETFROM:+0100
TZOFFSETTO:+0200
TZNAME:CEST
DTSTART:20260329T010000
END:DAYLIGHT
BEGIN:STANDARD
TZOFFSETFROM:+0200
TZOFFSETTO:+0100
TZNAME:CET
DTSTART:20261025T010000
END:STANDARD
END:VTIMEZONE
BEGIN:VEVENT
DTSTART;TZID=Europe/Berlin:20260609T183000
DTEND;TZID=Europe/Berlin:20260609T210000
DTSTAMP:20260424T113758
CREATED:20260419T152035Z
LAST-MODIFIED:20260424T093554Z
UID:64872-1781029800-1781038800@kbi-mil.de
SUMMARY:MTA Zwischenprüfung MTA 2/1 2/3
DESCRIPTION:
URL:https://kbi-mil.de/event/mta-zwischenpruefung-mta-2-1-2-3
LOCATION:Feuerwehrhaus Kleinheubach
CATEGORIES:KBI
END:VEVENT
END:VCALENDAR