BEGIN:VCALENDAR
VERSION:2.0
PRODID:-//Kreisbrandinspektion Miltenberg - ECPv6.3.2//NONSGML v1.0//EN
CALSCALE:GREGORIAN
METHOD:PUBLISH
X-WR-CALNAME:Kreisbrandinspektion Miltenberg
X-ORIGINAL-URL:https://kbi-mil.de
X-WR-CALDESC:Veranstaltungen für Kreisbrandinspektion Miltenberg
REFRESH-INTERVAL;VALUE=DURATION:PT1H
X-Robots-Tag:noindex
X-PUBLISHED-TTL:PT1H
BEGIN:VTIMEZONE
TZID:Europe/Berlin
BEGIN:DAYLIGHT
TZOFFSETFROM:+0100
TZOFFSETTO:+0200
TZNAME:CEST
DTSTART:20260329T010000
END:DAYLIGHT
BEGIN:STANDARD
TZOFFSETFROM:+0200
TZOFFSETTO:+0100
TZNAME:CET
DTSTART:20261025T010000
END:STANDARD
END:VTIMEZONE
BEGIN:VEVENT
DTSTART;TZID=Europe/Berlin:20260623T180000
DTEND;TZID=Europe/Berlin:20260623T200000
DTSTAMP:20260420T143442
CREATED:20260108T165032Z
LAST-MODIFIED:20260420T122042Z
UID:62278-1782237600-1782244800@kbi-mil.de
SUMMARY:Erste-Hilfe-Kurs in drei Terminen (Sa / Di / Do)
DESCRIPTION:
URL:https://kbi-mil.de/event/erste-hilfe-kurs-in-drei-terminen-sa-di-do-23
LOCATION:richtet sich nach den Anmeldungen
CATEGORIES:KBI
END:VEVENT
BEGIN:VEVENT
DTSTART;TZID=Europe/Berlin:20260623T190000
DTEND;TZID=Europe/Berlin:20260623T210000
DTSTAMP:20260420T143442
CREATED:20260102T133526Z
LAST-MODIFIED:20260420T122041Z
UID:62003-1782241200-1782248400@kbi-mil.de
SUMMARY:Übung UG-ÖEL Nord
DESCRIPTION:
URL:https://kbi-mil.de/event/uebung-ug-oeel-nord-4
LOCATION:Feuerwehrhaus Obernburg
CATEGORIES:KBI
END:VEVENT
END:VCALENDAR