BEGIN:VCALENDAR
VERSION:2.0
PRODID:-//Kreisbrandinspektion Miltenberg - ECPv6.3.2//NONSGML v1.0//EN
CALSCALE:GREGORIAN
METHOD:PUBLISH
X-ORIGINAL-URL:https://kbi-mil.de
X-WR-CALDESC:Veranstaltungen für Kreisbrandinspektion Miltenberg
REFRESH-INTERVAL;VALUE=DURATION:PT1H
X-Robots-Tag:noindex
X-PUBLISHED-TTL:PT1H
BEGIN:VTIMEZONE
TZID:Europe/Berlin
BEGIN:DAYLIGHT
TZOFFSETFROM:+0100
TZOFFSETTO:+0200
TZNAME:CEST
DTSTART:20260329T010000
END:DAYLIGHT
BEGIN:STANDARD
TZOFFSETFROM:+0200
TZOFFSETTO:+0100
TZNAME:CET
DTSTART:20261025T010000
END:STANDARD
END:VTIMEZONE
BEGIN:VEVENT
DTSTART;VALUE=DATE:20260626
DTEND;VALUE=DATE:20260629
DTSTAMP:20260420T180818
CREATED:20250625T223546Z
LAST-MODIFIED:20260420T152034Z
UID:57524-1782432000-1782691199@kbi-mil.de
SUMMARY:Feuerwehrfest Breitendiel
DESCRIPTION:
URL:https://kbi-mil.de/event/feuerwehrfest-breitendiel-2
LOCATION:Feuerwehr Breitendiel
CATEGORIES:KBI
END:VEVENT
BEGIN:VEVENT
DTSTART;TZID=Europe/Berlin:20260627T100000
DTEND;TZID=Europe/Berlin:20260627T120000
DTSTAMP:20260420T180818
CREATED:20251009T222028Z
LAST-MODIFIED:20260420T152034Z
UID:59480-1782554400-1782561600@kbi-mil.de
SUMMARY:Bayerische Leistungsprüfung
DESCRIPTION:
URL:https://kbi-mil.de/event/bayerische-leistungspruefung
CATEGORIES:KBI
END:VEVENT
BEGIN:VEVENT
DTSTART;TZID=Europe/Berlin:20260627T100000
DTEND;TZID=Europe/Berlin:20260627T120000
DTSTAMP:20260420T180818
CREATED:20260107T213532Z
LAST-MODIFIED:20260420T152034Z
UID:62218-1782554400-1782561600@kbi-mil.de
SUMMARY:Abnahme Kinderflämmchen
DESCRIPTION:
URL:https://kbi-mil.de/event/abnahme-kinderflaemmchen-32
LOCATION:Bürgstadt
CATEGORIES:KBI
END:VEVENT
BEGIN:VEVENT
DTSTART;TZID=Europe/Berlin:20260627T140000
DTEND;TZID=Europe/Berlin:20260627T160000
DTSTAMP:20260420T180818
CREATED:20251212T235020Z
LAST-MODIFIED:20260420T152034Z
UID:61309-1782568800-1782576000@kbi-mil.de
SUMMARY:Leistungsprüfung THL FF Leidersbach FF Roßbach FF Ebersbach FF Volkersbrunn
DESCRIPTION:
URL:https://kbi-mil.de/event/leistungspruefung-thl-ff-leidersbach-ff-rossbach-ff-ebersbach-ff-volkersbrunn
LOCATION:Feuerwehrhaus Leidersbach\, Hauptstr. 236A
CATEGORIES:KBI
END:VEVENT
END:VCALENDAR