BEGIN:VCALENDAR
VERSION:2.0
PRODID:-//Kreisbrandinspektion Miltenberg - ECPv6.3.2//NONSGML v1.0//EN
CALSCALE:GREGORIAN
METHOD:PUBLISH
X-ORIGINAL-URL:https://kbi-mil.de
X-WR-CALDESC:Veranstaltungen für Kreisbrandinspektion Miltenberg
REFRESH-INTERVAL;VALUE=DURATION:PT1H
X-Robots-Tag:noindex
X-PUBLISHED-TTL:PT1H
BEGIN:VTIMEZONE
TZID:Europe/Berlin
BEGIN:DAYLIGHT
TZOFFSETFROM:+0100
TZOFFSETTO:+0200
TZNAME:CEST
DTSTART:20260329T010000
END:DAYLIGHT
BEGIN:STANDARD
TZOFFSETFROM:+0200
TZOFFSETTO:+0100
TZNAME:CET
DTSTART:20261025T010000
END:STANDARD
END:VTIMEZONE
BEGIN:VEVENT
DTSTART;VALUE=DATE:20260711
DTEND;VALUE=DATE:20260712
DTSTAMP:20260424T121922
CREATED:20251010T190530Z
LAST-MODIFIED:20260424T093600Z
UID:59503-1783728000-1783814399@kbi-mil.de
SUMMARY:Wettspiele in Leidersbach
DESCRIPTION:
URL:https://kbi-mil.de/event/wettspiele-in-leidersbach
LOCATION:Leidersbach Feuerwehrgerätehaus (236B Hauptstr.\, \, 63849 Leidersbach Bayern\, Deutschland)
CATEGORIES:KBI
END:VEVENT
BEGIN:VEVENT
DTSTART;TZID=Europe/Berlin:20260711T100000
DTEND;TZID=Europe/Berlin:20260711T120000
DTSTAMP:20260424T121922
CREATED:20260107T213533Z
LAST-MODIFIED:20260424T093600Z
UID:62221-1783764000-1783771200@kbi-mil.de
SUMMARY:Abnahme Kinderflämmchen
DESCRIPTION:
URL:https://kbi-mil.de/event/abnahme-kinderflaemmchen-35
LOCATION:Collenberg
CATEGORIES:KBI
END:VEVENT
BEGIN:VEVENT
DTSTART;TZID=Europe/Berlin:20260711T140000
DTEND;TZID=Europe/Berlin:20260711T160000
DTSTAMP:20260424T121922
CREATED:20260108T190535Z
LAST-MODIFIED:20260424T093600Z
UID:62296-1783778400-1783785600@kbi-mil.de
SUMMARY:Leistungsprüfung Wasser FF Dorfprozelten FF Stadtprozelten
DESCRIPTION:
URL:https://kbi-mil.de/event/leistungspruefung-wasser-ff-dorfprozelten-ff-stadtprozelten
LOCATION:Feuerwehrhaus Stadtprozelten Brandenburger Str. 7
CATEGORIES:KBI
END:VEVENT
END:VCALENDAR