BEGIN:VCALENDAR
VERSION:2.0
PRODID:-//Kreisbrandinspektion Miltenberg - ECPv6.3.2//NONSGML v1.0//EN
CALSCALE:GREGORIAN
METHOD:PUBLISH
X-WR-CALNAME:Kreisbrandinspektion Miltenberg
X-ORIGINAL-URL:https://kbi-mil.de
X-WR-CALDESC:Veranstaltungen für Kreisbrandinspektion Miltenberg
REFRESH-INTERVAL;VALUE=DURATION:PT1H
X-Robots-Tag:noindex
X-PUBLISHED-TTL:PT1H
BEGIN:VTIMEZONE
TZID:Europe/Berlin
BEGIN:DAYLIGHT
TZOFFSETFROM:+0100
TZOFFSETTO:+0200
TZNAME:CEST
DTSTART:20260329T010000
END:DAYLIGHT
BEGIN:STANDARD
TZOFFSETFROM:+0200
TZOFFSETTO:+0100
TZNAME:CET
DTSTART:20261025T010000
END:STANDARD
END:VTIMEZONE
BEGIN:VEVENT
DTSTART;TZID=Europe/Berlin:20260722T190000
DTEND;TZID=Europe/Berlin:20260722T210000
DTSTAMP:20260424T121901
CREATED:20260305T120534Z
LAST-MODIFIED:20260424T093602Z
UID:63889-1784746800-1784754000@kbi-mil.de
SUMMARY:Präsentation LZG Miltenberg
DESCRIPTION:Hallo\,\nIn der Januar-Sitzung wurde ein LZG-Treffen vorgeschlagen\, bei welchem jede Feuerwehr das eingeplante Fahrzeug den anderen Mitgliedern des LZGs vorstellt.\nDeswegen lade ich euch zum LZG-Treffen am\nWann:  Mittwoch\, 22.07.2026 um 19:00 Uhr\nWo:       Festplatz Obernburg\nein.\nHier soll jede beteiligte Feuerwehr Ihr eingeplantes Fahrzeug vorstellen:\n  *   RW Collenberg\n  *   RW Wörth\n  *   AB-AS Miltenberg\n  *   AB-G Trennfurt\n  *   Dekon-P Leidersbach\n  *   MLK/ELW Erlenbach.\nGeplant ist\, dass 2-3 Mann am Fahrzeug selbst bleiben und die restliche Mannschaft im Sinne einer Stationsausbildung sich die anderen Fahrzeuge anschaut und erklären lässt.\nDie Vorstellung pro Station soll ca. 15min (max. 20min) betragen um den zeitlichen Rahmen nicht zu sprengen.\nKurz vor dem Termin melde ich mich nochmal mit einem Plan zur Fahrzeugaufstellung.\nMit kameradschaftlichen Grüßen\,\nHelge Killinger
URL:https://kbi-mil.de/event/praesentation-lzg-miltenberg
LOCATION:Festplatz Obernburg am Main (63785 Obernburg am Main Bayern\, Deutschland)
CATEGORIES:KBI
END:VEVENT
END:VCALENDAR