BEGIN:VCALENDAR
VERSION:2.0
PRODID:-//Kreisbrandinspektion Miltenberg - ECPv6.3.2//NONSGML v1.0//EN
CALSCALE:GREGORIAN
METHOD:PUBLISH
X-WR-CALNAME:Kreisbrandinspektion Miltenberg
X-ORIGINAL-URL:https://kbi-mil.de
X-WR-CALDESC:Veranstaltungen für Kreisbrandinspektion Miltenberg
REFRESH-INTERVAL;VALUE=DURATION:PT1H
X-Robots-Tag:noindex
X-PUBLISHED-TTL:PT1H
BEGIN:VTIMEZONE
TZID:Europe/Berlin
BEGIN:DAYLIGHT
TZOFFSETFROM:+0100
TZOFFSETTO:+0200
TZNAME:CEST
DTSTART:20230326T010000
END:DAYLIGHT
BEGIN:STANDARD
TZOFFSETFROM:+0200
TZOFFSETTO:+0100
TZNAME:CET
DTSTART:20231029T010000
END:STANDARD
END:VTIMEZONE
BEGIN:VEVENT
DTSTART;TZID=Europe/Berlin:20231203T090000
DTEND;TZID=Europe/Berlin:20231203T160000
DTSTAMP:20260425T145327
CREATED:20221202T233213Z
LAST-MODIFIED:20231203T140540Z
UID:30283-1701594000-1701619200@kbi-mil.de
SUMMARY:Adventskaffee FF Stadtprozelten
DESCRIPTION:
URL:https://kbi-mil.de/event/adventskaffee-ff-stadtprozelten
LOCATION:Feuerwehrhaus Stadtprozelten
CATEGORIES:KBI
END:VEVENT
BEGIN:VEVENT
DTSTART;TZID=Europe/Berlin:20231208T180000
DTEND;TZID=Europe/Berlin:20231208T220000
DTSTAMP:20260425T145327
CREATED:20221207T234827Z
LAST-MODIFIED:20231208T203227Z
UID:30421-1702058400-1702072800@kbi-mil.de
SUMMARY:Weihnachtsfeier Kreisbrandinspektion
DESCRIPTION:
URL:https://kbi-mil.de/event/weihnachtsfeier-kreisbrandinspektion
LOCATION:DECKELMANN HotelbetriebsGmbH (Mainstr. 8-13\, \, 63785 Obernburg am Main Bayern\, Deutschland)
CATEGORIES:KBI
END:VEVENT
BEGIN:VEVENT
DTSTART;TZID=Europe/Berlin:20231212T190000
DTEND;TZID=Europe/Berlin:20231212T213000
DTSTAMP:20260425T145327
CREATED:20231205T201811Z
LAST-MODIFIED:20231212T201930Z
UID:38937-1702407600-1702416600@kbi-mil.de
SUMMARY:MTA-Zwischenprüfung KBM-Bereich 2/1
DESCRIPTION:
URL:https://kbi-mil.de/event/mta-zwischenpruefung-kbm-bereich-2-1
LOCATION:Feuerwehrhaus Bürgstadt
CATEGORIES:KBI
END:VEVENT
BEGIN:VEVENT
DTSTART;TZID=Europe/Berlin:20231215T160000
DTEND;TZID=Europe/Berlin:20231215T180000
DTSTAMP:20260425T145327
CREATED:20231206T220211Z
LAST-MODIFIED:20231215T164747Z
UID:38968-1702656000-1702663200@kbi-mil.de
SUMMARY:MTA Zwischenprüfung Miltenberg
DESCRIPTION:
URL:https://kbi-mil.de/event/mta-zwischenpruefung-miltenberg
CATEGORIES:KBI
END:VEVENT
BEGIN:VEVENT
DTSTART;TZID=Europe/Berlin:20231220T190000
DTEND;TZID=Europe/Berlin:20231220T210000
DTSTAMP:20260425T145328
CREATED:20221219T234741Z
LAST-MODIFIED:20231220T194748Z
UID:30752-1703098800-1703106000@kbi-mil.de
SUMMARY:Inspektionssitzung
DESCRIPTION:
URL:https://kbi-mil.de/event/inspektionssitzung-18
LOCATION:LRA\, Seminarraum Nordflügel\, Zugang über Gebäudrückseite
CATEGORIES:KBI
END:VEVENT
BEGIN:VEVENT
DTSTART;TZID=Europe/Berlin:20231228T170000
DTEND;TZID=Europe/Berlin:20231228T220000
DTSTAMP:20260425T145328
CREATED:20221227T234729Z
LAST-MODIFIED:20231228T203249Z
UID:30949-1703782800-1703800800@kbi-mil.de
SUMMARY:Wintergrillen FF Stadtprozelten
DESCRIPTION:
URL:https://kbi-mil.de/event/wintergrillen-ff-stadtprozelten-2
LOCATION:Feuerwehrhaus Stadtprozelten
CATEGORIES:KBI
END:VEVENT
END:VCALENDAR