BEGIN:VCALENDAR
VERSION:2.0
PRODID:-//Kreisbrandinspektion Miltenberg - ECPv6.3.2//NONSGML v1.0//EN
CALSCALE:GREGORIAN
METHOD:PUBLISH
X-WR-CALNAME:Kreisbrandinspektion Miltenberg
X-ORIGINAL-URL:https://kbi-mil.de
X-WR-CALDESC:Veranstaltungen für Kreisbrandinspektion Miltenberg
REFRESH-INTERVAL;VALUE=DURATION:PT1H
X-Robots-Tag:noindex
X-PUBLISHED-TTL:PT1H
BEGIN:VTIMEZONE
TZID:Europe/Berlin
BEGIN:DAYLIGHT
TZOFFSETFROM:+0100
TZOFFSETTO:+0200
TZNAME:CEST
DTSTART:20240331T010000
END:DAYLIGHT
BEGIN:STANDARD
TZOFFSETFROM:+0200
TZOFFSETTO:+0100
TZNAME:CET
DTSTART:20241027T010000
END:STANDARD
END:VTIMEZONE
BEGIN:VEVENT
DTSTART;TZID=Europe/Berlin:20240701T164500
DTEND;TZID=Europe/Berlin:20240701T180000
DTSTAMP:20260425T145337
CREATED:20240315T223218Z
LAST-MODIFIED:20240611T223756Z
UID:41729-1719852300-1719856800@kbi-mil.de
SUMMARY:Abnahme Kinderflämmchen
DESCRIPTION:
URL:https://kbi-mil.de/event/abnahme-kinderflaemmchen-21
LOCATION:Wörth am Main
CATEGORIES:KBI
END:VEVENT
BEGIN:VEVENT
DTSTART;TZID=Europe/Berlin:20240703T180000
DTEND;TZID=Europe/Berlin:20240703T200000
DTSTAMP:20260425T145337
CREATED:20240107T181715Z
LAST-MODIFIED:20240611T223756Z
UID:40019-1720029600-1720036800@kbi-mil.de
SUMMARY:Abnahme Kinderflämmchen
DESCRIPTION:
URL:https://kbi-mil.de/event/abnahme-kinderflaemmchen-9
LOCATION:Freiwillige Feuerwehr Elsenfeld (Dammsfeldstr. 17\, \, 63820 Elsenfeld Bayern\, Deutschland)
CATEGORIES:KBI
END:VEVENT
BEGIN:VEVENT
DTSTART;VALUE=DATE:20240705
DTEND;VALUE=DATE:20240708
DTSTAMP:20260425T145337
CREATED:20230704T221734Z
LAST-MODIFIED:20240611T223756Z
UID:34987-1720137600-1720396799@kbi-mil.de
SUMMARY:150 Jahre Feuerwehr Collenberg
DESCRIPTION:
URL:https://kbi-mil.de/event/150-jahre-feuerwehr-collenberg-2
CATEGORIES:KBI
END:VEVENT
BEGIN:VEVENT
DTSTART;TZID=Europe/Berlin:20240705T180000
DTEND;TZID=Europe/Berlin:20240705T200000
DTSTAMP:20260425T145337
CREATED:20240302T214010Z
LAST-MODIFIED:20240611T223757Z
UID:41298-1720202400-1720209600@kbi-mil.de
SUMMARY:Leistungsprüfung Wasser FF Kleinheubach
DESCRIPTION:
URL:https://kbi-mil.de/event/leistungspruefung-wasser-ff-kleinheubach
LOCATION:Feuerwehrhaus Kleinheubach
CATEGORIES:KBI
END:VEVENT
BEGIN:VEVENT
DTSTART;VALUE=DATE:20240706
DTEND;VALUE=DATE:20240707
DTSTAMP:20260425T145337
CREATED:20231031T173258Z
LAST-MODIFIED:20240611T223757Z
UID:37966-1720224000-1720310399@kbi-mil.de
SUMMARY:Dreiländerftreffen Kinder- und Jugendfeuerwehr
DESCRIPTION:
URL:https://kbi-mil.de/event/dreilaenderftreffen-kinder-und-jugendfeuerwehr
LOCATION:Weilbach
CATEGORIES:KBI
END:VEVENT
BEGIN:VEVENT
DTSTART;VALUE=DATE:20240706
DTEND;VALUE=DATE:20240708
DTSTAMP:20260425T145337
CREATED:20230705T221729Z
LAST-MODIFIED:20240611T223757Z
UID:35023-1720224000-1720396799@kbi-mil.de
SUMMARY:150 Jahre FF Weilbach
DESCRIPTION:
URL:https://kbi-mil.de/event/150-jahre-ff-weilbach
CATEGORIES:KBI
END:VEVENT
BEGIN:VEVENT
DTSTART;TZID=Europe/Berlin:20240706T090000
DTEND;TZID=Europe/Berlin:20240706T160000
DTSTAMP:20260425T145337
CREATED:20240302T214010Z
LAST-MODIFIED:20240611T223757Z
UID:41299-1720256400-1720281600@kbi-mil.de
SUMMARY:THL Seminar Bauunfall
DESCRIPTION:
URL:https://kbi-mil.de/event/thl-seminar-bauunfall
LOCATION:Übungsgelände der Feuerwehr der Stadt Klingenberg (Gänserain 8\, \, 63911 Klingenberg am Main Germany\, Deutschland)
CATEGORIES:KBI
END:VEVENT
BEGIN:VEVENT
DTSTART;TZID=Europe/Berlin:20240706T100000
DTEND;TZID=Europe/Berlin:20240706T120000
DTSTAMP:20260425T145337
CREATED:20240107T191718Z
LAST-MODIFIED:20240611T223757Z
UID:40038-1720260000-1720267200@kbi-mil.de
SUMMARY:Abnahme Kinderflämmchen
DESCRIPTION:
URL:https://kbi-mil.de/event/abnahme-kinderflaemmchen-10
LOCATION:Collenberg
CATEGORIES:KBI
END:VEVENT
BEGIN:VEVENT
DTSTART;TZID=Europe/Berlin:20240711T180000
DTEND;TZID=Europe/Berlin:20240711T200000
DTSTAMP:20260425T145337
CREATED:20240411T202031Z
LAST-MODIFIED:20240711T173519Z
UID:42462-1720720800-1720728000@kbi-mil.de
SUMMARY:Bayerische Jugendleistungsprüfung
DESCRIPTION:
URL:https://kbi-mil.de/event/bayerische-jugendleistungspruefung-6
LOCATION:Anglerheim Großheubach
CATEGORIES:KBI
END:VEVENT
BEGIN:VEVENT
DTSTART;VALUE=DATE:20240712
DTEND;VALUE=DATE:20240716
DTSTAMP:20260425T145337
CREATED:20231027T113008Z
LAST-MODIFIED:20240715T230523Z
UID:37797-1720742400-1721087999@kbi-mil.de
SUMMARY:Straßen und Hoffest Bürgstadt
DESCRIPTION:
URL:https://kbi-mil.de/event/strassen-und-hoffest-buergstadt
LOCATION:Bürgstadt
CATEGORIES:KBI
END:VEVENT
BEGIN:VEVENT
DTSTART;VALUE=DATE:20240713
DTEND;VALUE=DATE:20240715
DTSTAMP:20260425T145337
CREATED:20230924T121808Z
LAST-MODIFIED:20240714T232037Z
UID:36965-1720828800-1721001599@kbi-mil.de
SUMMARY:125 Jahre Feuerwehr Boxbrunn
DESCRIPTION:
URL:https://kbi-mil.de/event/125-jahre-feuerwehr-boxbrunn
CATEGORIES:KBI
END:VEVENT
BEGIN:VEVENT
DTSTART;TZID=Europe/Berlin:20240713T090000
DTEND;TZID=Europe/Berlin:20240713T130000
DTSTAMP:20260425T145337
CREATED:20240130T194717Z
LAST-MODIFIED:20240713T103530Z
UID:40709-1720861200-1720875600@kbi-mil.de
SUMMARY:MTA-Abschlussprüfung
DESCRIPTION:
URL:https://kbi-mil.de/event/mta-abschlusspruefung-11
LOCATION:Weckbach
CATEGORIES:KBI
END:VEVENT
BEGIN:VEVENT
DTSTART;TZID=Europe/Berlin:20240713T090000
DTEND;TZID=Europe/Berlin:20240713T160000
DTSTAMP:20260425T145337
CREATED:20240302T214011Z
LAST-MODIFIED:20240713T130516Z
UID:41300-1720861200-1720886400@kbi-mil.de
SUMMARY:THL Seminar Bauunfall
DESCRIPTION:
URL:https://kbi-mil.de/event/thl-seminar-bauunfall-2
LOCATION:Übungsgelände der Feuerwehr der Stadt Klingenberg (Gänserain 8\, \, 63911 Klingenberg am Main Germany\, Deutschland)
CATEGORIES:KBI
END:VEVENT
BEGIN:VEVENT
DTSTART;TZID=Europe/Berlin:20240713T100000
DTEND;TZID=Europe/Berlin:20240713T120000
DTSTAMP:20260425T145337
CREATED:20240106T104746Z
LAST-MODIFIED:20240713T093516Z
UID:39958-1720864800-1720872000@kbi-mil.de
SUMMARY:Abnahme Jugendflamme
DESCRIPTION:
URL:https://kbi-mil.de/event/abnahme-jugendflamme-6
LOCATION:Miltenberg
CATEGORIES:KBI
END:VEVENT
BEGIN:VEVENT
DTSTART;TZID=Europe/Berlin:20240717T190000
DTEND;TZID=Europe/Berlin:20240717T210000
DTSTAMP:20260425T145337
CREATED:20231009T150226Z
LAST-MODIFIED:20240717T183522Z
UID:37295-1721242800-1721250000@kbi-mil.de
SUMMARY:Inspektionssitzung
DESCRIPTION:
URL:https://kbi-mil.de/event/inspektionssitzung-25
LOCATION:KatS-Halle
CATEGORIES:KBI
END:VEVENT
BEGIN:VEVENT
DTSTART;TZID=Europe/Berlin:20240717T190000
DTEND;TZID=Europe/Berlin:20240717T210000
DTSTAMP:20260425T145337
CREATED:20240106T104746Z
LAST-MODIFIED:20240717T183521Z
UID:39959-1721242800-1721250000@kbi-mil.de
SUMMARY:Abnahme Jugendflamme
DESCRIPTION:
URL:https://kbi-mil.de/event/abnahme-jugendflamme-7
LOCATION:Leidersbach
CATEGORIES:KBI
END:VEVENT
BEGIN:VEVENT
DTSTART;TZID=Europe/Berlin:20240718T180000
DTEND;TZID=Europe/Berlin:20240718T200000
DTSTAMP:20260425T145337
CREATED:20240107T191719Z
LAST-MODIFIED:20240718T172022Z
UID:40040-1721325600-1721332800@kbi-mil.de
SUMMARY:Abnahme Kinderflämmchen
DESCRIPTION:
URL:https://kbi-mil.de/event/abnahme-kinderflaemmchen-11
LOCATION:Freiwillige Feuerwehr Niedernberg (Lindenstr. 2\, \, 63843 Niedernberg Bayern\, Deutschland)
CATEGORIES:KBI
END:VEVENT
BEGIN:VEVENT
DTSTART;VALUE=DATE:20240719
DTEND;VALUE=DATE:20240723
DTSTAMP:20260425T145337
CREATED:20230718T223335Z
LAST-MODIFIED:20240722T223518Z
UID:35370-1721347200-1721692799@kbi-mil.de
SUMMARY:150 Jahre FF Kirchzell
DESCRIPTION:
URL:https://kbi-mil.de/event/150-jahre-ff-kirchzell
CATEGORIES:KBI
END:VEVENT
BEGIN:VEVENT
DTSTART;TZID=Europe/Berlin:20240719T170000
DTEND;TZID=Europe/Berlin:20240719T190000
DTSTAMP:20260425T145337
CREATED:20240107T191720Z
LAST-MODIFIED:20240719T162032Z
UID:40042-1721408400-1721415600@kbi-mil.de
SUMMARY:Abnahme Kinderflämmchen
DESCRIPTION:
URL:https://kbi-mil.de/event/abnahme-kinderflaemmchen-12
LOCATION:Mechenhard
CATEGORIES:KBI
END:VEVENT
BEGIN:VEVENT
DTSTART;TZID=Europe/Berlin:20240719T190000
DTEND;TZID=Europe/Berlin:20240719T210000
DTSTAMP:20260425T145337
CREATED:20240106T104746Z
LAST-MODIFIED:20240719T183534Z
UID:39961-1721415600-1721422800@kbi-mil.de
SUMMARY:Abnahme Jugendflamme
DESCRIPTION:
URL:https://kbi-mil.de/event/abnahme-jugendflamme-8
LOCATION:Kleinheubach
CATEGORIES:KBI
END:VEVENT
BEGIN:VEVENT
DTSTART;VALUE=DATE:20240720
DTEND;VALUE=DATE:20240721
DTSTAMP:20260425T145337
CREATED:20230705T221728Z
LAST-MODIFIED:20240720T233542Z
UID:35022-1721433600-1721519999@kbi-mil.de
SUMMARY:Kreiswettspiele Kinder- und Jugendfeuerwehr
DESCRIPTION:
URL:https://kbi-mil.de/event/kreisjugendfeuerwehr-wettspiele-in-weilbach
LOCATION:Kirchzell
CATEGORIES:KBI
END:VEVENT
BEGIN:VEVENT
DTSTART;VALUE=DATE:20240720
DTEND;VALUE=DATE:20240722
DTSTAMP:20260425T145337
CREATED:20240528T080525Z
LAST-MODIFIED:20240721T232015Z
UID:43723-1721433600-1721606399@kbi-mil.de
SUMMARY:Sommernachtsfest FF Hobbach
DESCRIPTION:
URL:https://kbi-mil.de/event/sommernachtsfest-ff-hobbach
LOCATION:Feuerwehrhaus Hobbach
CATEGORIES:KBI
END:VEVENT
BEGIN:VEVENT
DTSTART;TZID=Europe/Berlin:20240722T183000
DTEND;TZID=Europe/Berlin:20240722T190000
DTSTAMP:20260425T145337
CREATED:20231031T183221Z
LAST-MODIFIED:20240722T160532Z
UID:37974-1721673000-1721674800@kbi-mil.de
SUMMARY:Vorgespräch  Deutsche Jugendleistungsspange
DESCRIPTION:
URL:https://kbi-mil.de/event/vorgespraech-deutsche-jugendleistungsspange-2
LOCATION:Röllfeld Feuerwehrhaus
CATEGORIES:KBI
END:VEVENT
BEGIN:VEVENT
DTSTART;TZID=Europe/Berlin:20240726T180000
DTEND;TZID=Europe/Berlin:20240726T200000
DTSTAMP:20260425T145337
CREATED:20240107T191720Z
LAST-MODIFIED:20240722T223518Z
UID:40044-1722016800-1722024000@kbi-mil.de
SUMMARY:Abnahme Kinderflämmchen
DESCRIPTION:
URL:https://kbi-mil.de/event/abnahme-kinderflaemmchen-13
LOCATION:Freiwillige Feuerwehr Kleinheubach (Im Steiner 11\, \, 63924 Kleinheubach Bayern\, Deutschland)
CATEGORIES:KBI
END:VEVENT
BEGIN:VEVENT
DTSTART;TZID=Europe/Berlin:20240726T180000
DTEND;TZID=Europe/Berlin:20240726T200000
DTSTAMP:20260425T145337
CREATED:20240302T214012Z
LAST-MODIFIED:20240722T223518Z
UID:41301-1722016800-1722024000@kbi-mil.de
SUMMARY:Leistungsprüfung Wasser FF Obernburg
DESCRIPTION:
URL:https://kbi-mil.de/event/leistungspruefung-wasser-ff-obernburg
LOCATION:Feuerwehrhaus Obernburg
CATEGORIES:KBI
END:VEVENT
BEGIN:VEVENT
DTSTART;TZID=Europe/Berlin:20240727T090000
DTEND;TZID=Europe/Berlin:20240727T110000
DTSTAMP:20260425T145337
CREATED:20240302T214012Z
LAST-MODIFIED:20240722T223519Z
UID:41302-1722070800-1722078000@kbi-mil.de
SUMMARY:Leistungsprüfung THL FF Kleinwallstadt\, FF Hausen und FF Hofstetten
DESCRIPTION:
URL:https://kbi-mil.de/event/leistungspruefung-thl-ff-kleinwallstadt-ff-hausen-und-ff-hofstetten
LOCATION:Feuerwehrhaus Kleinwallstadt
CATEGORIES:KBI
END:VEVENT
END:VCALENDAR