BEGIN:VCALENDAR
VERSION:2.0
PRODID:-//Kreisbrandinspektion Miltenberg - ECPv6.3.2//NONSGML v1.0//EN
CALSCALE:GREGORIAN
METHOD:PUBLISH
X-WR-CALNAME:Kreisbrandinspektion Miltenberg
X-ORIGINAL-URL:https://kbi-mil.de
X-WR-CALDESC:Veranstaltungen für Kreisbrandinspektion Miltenberg
REFRESH-INTERVAL;VALUE=DURATION:PT1H
X-Robots-Tag:noindex
X-PUBLISHED-TTL:PT1H
BEGIN:VTIMEZONE
TZID:Europe/Berlin
BEGIN:DAYLIGHT
TZOFFSETFROM:+0100
TZOFFSETTO:+0200
TZNAME:CEST
DTSTART:20240331T010000
END:DAYLIGHT
BEGIN:STANDARD
TZOFFSETFROM:+0200
TZOFFSETTO:+0100
TZNAME:CET
DTSTART:20241027T010000
END:STANDARD
END:VTIMEZONE
BEGIN:VEVENT
DTSTART;VALUE=DATE:20240831
DTEND;VALUE=DATE:20240902
DTSTAMP:20260425T181503
CREATED:20240302T214013Z
LAST-MODIFIED:20240829T230523Z
UID:41305-1725062400-1725235199@kbi-mil.de
SUMMARY:Gerätehausfest FF Elsenfeld
DESCRIPTION:
URL:https://kbi-mil.de/event/geraetehausfest-ff-elsenfeld-3
LOCATION:Freiwillige Feuerwehr Elsenfeld (Dammsfeldstr. 17\, \, 63820 Elsenfeld Bavaria\, Deutschland)
CATEGORIES:KBI
END:VEVENT
BEGIN:VEVENT
DTSTART;TZID=Europe/Berlin:20240901T103000
DTEND;TZID=Europe/Berlin:20240901T180000
DTSTAMP:20260425T181503
CREATED:20240302T214013Z
LAST-MODIFIED:20240506T135029Z
UID:41306-1725186600-1725213600@kbi-mil.de
SUMMARY:Gerätehaus FF Elsenfeld
DESCRIPTION:
URL:https://kbi-mil.de/event/geraetehaus-ff-elsenfeld
LOCATION:Freiwillige Feuerwehr Elsenfeld (Dammsfeldstr. 17\, \, 63820 Elsenfeld Bavaria\, Deutschland)
CATEGORIES:KBI
END:VEVENT
BEGIN:VEVENT
DTSTART;TZID=Europe/Berlin:20240902T190000
DTEND;TZID=Europe/Berlin:20240902T210000
DTSTAMP:20260425T181503
CREATED:20240822T175023Z
LAST-MODIFIED:20240829T230523Z
UID:45579-1725303600-1725310800@kbi-mil.de
SUMMARY:Vorbesprechung MTA-September 1: 16.09.-13.11.2024
DESCRIPTION:
URL:https://kbi-mil.de/event/vorbesprechung-mta-september-1-16-09-13-11-2024
LOCATION:Feuerwehrhaus Obernburg\, Jahnstr. 2b
CATEGORIES:KBI
END:VEVENT
BEGIN:VEVENT
DTSTART;TZID=Europe/Berlin:20240906T180000
DTEND;TZID=Europe/Berlin:20240906T193000
DTSTAMP:20260425T181503
CREATED:20240405T135105Z
LAST-MODIFIED:20240906T163518Z
UID:42292-1725645600-1725651000@kbi-mil.de
SUMMARY:Leistungsprüfung Wasser FF Amorbach
DESCRIPTION:
URL:https://kbi-mil.de/event/leistungspruefung-wasser-ff-amorbach-2
LOCATION:Altstadtparkplatz am Schwimmbad\, Amorbach
CATEGORIES:KBI
END:VEVENT
BEGIN:VEVENT
DTSTART;TZID=Europe/Berlin:20240909T190000
DTEND;TZID=Europe/Berlin:20240909T213000
DTSTAMP:20260425T181503
CREATED:20240822T185026Z
LAST-MODIFIED:20240909T192016Z
UID:45584-1725908400-1725917400@kbi-mil.de
SUMMARY:Vorbesprechung Hybrid MTA: 23.09.-09.12.2024
DESCRIPTION:
URL:https://kbi-mil.de/event/vorbesprechung-hybrid-mta-23-09-09-12-2024
LOCATION:Ort richtet sich nach den Teilnehmern
CATEGORIES:KBI
END:VEVENT
BEGIN:VEVENT
DTSTART;TZID=Europe/Berlin:20240911T190000
DTEND;TZID=Europe/Berlin:20240911T210000
DTSTAMP:20260425T181503
CREATED:20231009T150227Z
LAST-MODIFIED:20240911T182022Z
UID:37296-1726081200-1726088400@kbi-mil.de
SUMMARY:Inspektionssitzung
DESCRIPTION:
URL:https://kbi-mil.de/event/inspektionssitzung-26
LOCATION:KatS-Halle
CATEGORIES:KBI
END:VEVENT
BEGIN:VEVENT
DTSTART;TZID=Europe/Berlin:20240912T180000
DTEND;TZID=Europe/Berlin:20240912T200000
DTSTAMP:20260425T181503
CREATED:20240822T185027Z
LAST-MODIFIED:20240912T175028Z
UID:45586-1726164000-1726171200@kbi-mil.de
SUMMARY:Online Webtraining E-Mobilität und die Feuerwehr - Sensibilisierung der Einsatzkraft Teil I
DESCRIPTION:
URL:https://kbi-mil.de/event/online-webtraining-e-mobilitaet-und-die-feuerwehr-sensibilisierung-der-einsatzkraft-teil-i
LOCATION:Online-Webtraining
CATEGORIES:KBI
END:VEVENT
BEGIN:VEVENT
DTSTART;VALUE=DATE:20240913
DTEND;VALUE=DATE:20240915
DTSTAMP:20260425T181503
CREATED:20231221T154757Z
LAST-MODIFIED:20240914T232028Z
UID:39338-1726185600-1726358399@kbi-mil.de
SUMMARY:LFV Verbandsversammlung
DESCRIPTION:
URL:https://kbi-mil.de/event/lfv-verbandsversammlung-2
LOCATION:München
CATEGORIES:KBI
END:VEVENT
BEGIN:VEVENT
DTSTART;TZID=Europe/Berlin:20240913T180000
DTEND;TZID=Europe/Berlin:20240913T200000
DTSTAMP:20260425T181503
CREATED:20240302T214013Z
LAST-MODIFIED:20240913T175020Z
UID:41308-1726250400-1726257600@kbi-mil.de
SUMMARY:! ABGESAGT ! Leistungsprüfung Wasser FF Schippach und FF Wenschdorf
DESCRIPTION:
URL:https://kbi-mil.de/event/leistungspruefung-wasser-ff-schippach-und-ff-wenschdorf
LOCATION:Feuerwehrhaus Schippach
CATEGORIES:KBI
END:VEVENT
BEGIN:VEVENT
DTSTART;TZID=Europe/Berlin:20240914T090000
DTEND;TZID=Europe/Berlin:20240914T130000
DTSTAMP:20260425T181503
CREATED:20231031T183222Z
LAST-MODIFIED:20240914T100527Z
UID:37976-1726304400-1726318800@kbi-mil.de
SUMMARY:Vorbereitung Deutsche Jugendleistungsspange
DESCRIPTION:
URL:https://kbi-mil.de/event/vorbereitung-deutsche-jugendleistungsspange
LOCATION:Spessartstadion Elsava Elsenfeld (Dammsfeldstraße 2 63820\, \, 63820 Elsenfeld Bayern\, Deutschland)
CATEGORIES:KBI
END:VEVENT
BEGIN:VEVENT
DTSTART;TZID=Europe/Berlin:20240914T160000
DTEND;TZID=Europe/Berlin:20240914T200000
DTSTAMP:20260425T181503
CREATED:20240903T163647Z
LAST-MODIFIED:20240914T172019Z
UID:45815-1726329600-1726344000@kbi-mil.de
SUMMARY:Fest FF Schmachtenberg
DESCRIPTION:
URL:https://kbi-mil.de/event/fest-ff-schmachtenberg
LOCATION:Gerätehaus FF Schmachtenberg
CATEGORIES:KBI
END:VEVENT
BEGIN:VEVENT
DTSTART;TZID=Europe/Berlin:20240914T180000
DTEND;TZID=Europe/Berlin:20240914T210000
DTSTAMP:20260425T181503
CREATED:20240304T201725Z
LAST-MODIFIED:20240914T182033Z
UID:41414-1726336800-1726347600@kbi-mil.de
SUMMARY:Kinderwarte- und Betreuerstammtisch
DESCRIPTION:
URL:https://kbi-mil.de/event/kinderwarte-und-betreuerstammtisch-2
CATEGORIES:KBI
END:VEVENT
BEGIN:VEVENT
DTSTART;TZID=Europe/Berlin:20240915T100000
DTEND;TZID=Europe/Berlin:20240915T160000
DTSTAMP:20260425T181503
CREATED:20240903T180734Z
LAST-MODIFIED:20240915T130520Z
UID:45822-1726394400-1726416000@kbi-mil.de
SUMMARY:Fest FF Schmachtenberg
DESCRIPTION:
URL:https://kbi-mil.de/event/fest-ff-schmachtenberg-2
LOCATION:Gerätehaus FF Schmachtenberg
CATEGORIES:KBI
END:VEVENT
BEGIN:VEVENT
DTSTART;TZID=Europe/Berlin:20240917T190000
DTEND;TZID=Europe/Berlin:20240917T213000
DTSTAMP:20260425T181503
CREATED:20240822T185027Z
LAST-MODIFIED:20240917T185018Z
UID:45588-1726599600-1726608600@kbi-mil.de
SUMMARY:Vorbesprechung MTA-Oktober 1: 07.10.-04.12.2024
DESCRIPTION:
URL:https://kbi-mil.de/event/vorbesprechung-mta-oktober-1-07-10-04-12-2024
LOCATION:Feuerwehrhaus Elsenfeld\, Dammsfeldstr. 17
CATEGORIES:KBI
END:VEVENT
BEGIN:VEVENT
DTSTART;TZID=Europe/Berlin:20240919T190000
DTEND;TZID=Europe/Berlin:20240919T213000
DTSTAMP:20260425T181503
CREATED:20240822T185028Z
LAST-MODIFIED:20240919T192027Z
UID:45590-1726772400-1726781400@kbi-mil.de
SUMMARY:Vorbesprechung MTA-Oktober 2: 08.10.-26.11.2024
DESCRIPTION:
URL:https://kbi-mil.de/event/vorbesprechung-mta-oktober-2-08-10-26-11-2024
LOCATION:Feuerwehrhaus Bürgstadt\, Brückenstr. 21
CATEGORIES:KBI
END:VEVENT
BEGIN:VEVENT
DTSTART;TZID=Europe/Berlin:20240920T190000
DTEND;TZID=Europe/Berlin:20240920T233000
DTSTAMP:20260425T181503
CREATED:20240304T181727Z
LAST-MODIFIED:20240920T212016Z
UID:41408-1726858800-1726875000@kbi-mil.de
SUMMARY:Jugendwart und Betreuerstammtisch
DESCRIPTION:
URL:https://kbi-mil.de/event/jugendwart-und-betreuerstammtisch-2
LOCATION:Großheubach
CATEGORIES:KBI
END:VEVENT
BEGIN:VEVENT
DTSTART;VALUE=DATE:20240921
DTEND;VALUE=DATE:20240923
DTSTAMP:20260425T181503
CREATED:20240711T193525Z
LAST-MODIFIED:20240922T232026Z
UID:44667-1726876800-1727049599@kbi-mil.de
SUMMARY:145 Jahre FF Trennfurt
DESCRIPTION:
URL:https://kbi-mil.de/event/145-jahre-ff-trennfurt
CATEGORIES:KBI
END:VEVENT
BEGIN:VEVENT
DTSTART;TZID=Europe/Berlin:20240921T090000
DTEND;TZID=Europe/Berlin:20240921T130000
DTSTAMP:20260425T181503
CREATED:20231031T183222Z
LAST-MODIFIED:20240921T105018Z
UID:37978-1726909200-1726923600@kbi-mil.de
SUMMARY:Vorbereitung Deutsche Jugendleistungsspange
DESCRIPTION:
URL:https://kbi-mil.de/event/vorbereitung-deutsche-jugendleistungsspange-2
LOCATION:Spessartstadion Elsava Elsenfeld (Dammsfeldstraße 2 63820\, \, 63820 Elsenfeld Bayern\, Deutschland)
CATEGORIES:KBI
END:VEVENT
BEGIN:VEVENT
DTSTART;TZID=Europe/Berlin:20240921T170000
DTEND;TZID=Europe/Berlin:20240921T223000
DTSTAMP:20260425T181503
CREATED:20240728T112840Z
LAST-MODIFIED:20240921T200520Z
UID:44986-1726938000-1726957800@kbi-mil.de
SUMMARY:Lange Nacht der Feuerwehr Sulzbach
DESCRIPTION:
URL:https://kbi-mil.de/event/lange-nacht-der-feuerwehr-sulzbach
LOCATION:FF Sulzbach
CATEGORIES:KBI
END:VEVENT
BEGIN:VEVENT
DTSTART;TZID=Europe/Berlin:20240925T190000
DTEND;TZID=Europe/Berlin:20240925T210000
DTSTAMP:20260425T181503
CREATED:20240510T212040Z
LAST-MODIFIED:20240925T183528Z
UID:43291-1727290800-1727298000@kbi-mil.de
SUMMARY:Messübung 2024
DESCRIPTION:
URL:https://kbi-mil.de/event/messuebung-2024
LOCATION:Feuerwehrgerätehaus Erlenbach am Main
CATEGORIES:KBI
END:VEVENT
BEGIN:VEVENT
DTSTART;VALUE=DATE:20240927
DTEND;VALUE=DATE:20240930
DTSTAMP:20260425T181503
CREATED:20240915T172019Z
LAST-MODIFIED:20240929T235030Z
UID:46158-1727395200-1727654399@kbi-mil.de
SUMMARY:85 Jahre FF Pfohlbach
DESCRIPTION:
URL:https://kbi-mil.de/event/85-jahre-ff-pfohlbach
CATEGORIES:KBI
END:VEVENT
BEGIN:VEVENT
DTSTART;VALUE=DATE:20240928
DTEND;VALUE=DATE:20240929
DTSTAMP:20260425T181503
CREATED:20231027T113009Z
LAST-MODIFIED:20240928T230648Z
UID:37798-1727481600-1727567999@kbi-mil.de
SUMMARY:Tag der offenen Tür und 150 Jahre FF Bürgstadt
DESCRIPTION:
URL:https://kbi-mil.de/event/tag-der-offenen-tuer-ff-buergstadt
LOCATION:Feuerwehr Bürgstadt
CATEGORIES:KBI
END:VEVENT
BEGIN:VEVENT
DTSTART;TZID=Europe/Berlin:20240928T090000
DTEND;TZID=Europe/Berlin:20240928T170000
DTSTAMP:20260425T181503
CREATED:20240131T194721Z
LAST-MODIFIED:20240928T142038Z
UID:40760-1727514000-1727542800@kbi-mil.de
SUMMARY:Erste Hilfe Kurs - in zwei Terminen (Sa / So)
DESCRIPTION:
URL:https://kbi-mil.de/event/erste-hilfe-kurs-in-zwei-terminen-sa-so-9
CATEGORIES:KBI
END:VEVENT
BEGIN:VEVENT
DTSTART;TZID=Europe/Berlin:20240928T100000
DTEND;TZID=Europe/Berlin:20240928T140000
DTSTAMP:20260425T181503
CREATED:20231030T191736Z
LAST-MODIFIED:20240928T112032Z
UID:37942-1727517600-1727532000@kbi-mil.de
SUMMARY:Abnahme Deutsche Jugendleistungsspange
DESCRIPTION:
URL:https://kbi-mil.de/event/abnahme-deutsche-jugendleistungspruefung-2
LOCATION:Spessartstadion Elsava Elsenfeld (Dammsfeldstraße 2 63820\, \, 63820 Elsenfeld Bayern\, Deutschland)
CATEGORIES:KBI
END:VEVENT
BEGIN:VEVENT
DTSTART;TZID=Europe/Berlin:20240928T153000
DTEND;TZID=Europe/Berlin:20240928T173000
DTSTAMP:20260425T181503
CREATED:20240106T104748Z
LAST-MODIFIED:20240928T142038Z
UID:39962-1727537400-1727544600@kbi-mil.de
SUMMARY:Abnahme Bayerische Jugendleistungsspange
DESCRIPTION:
URL:https://kbi-mil.de/event/abnahme-bayerische-jugendleistungsspange
LOCATION:Miltenberg
CATEGORIES:KBI
END:VEVENT
BEGIN:VEVENT
DTSTART;TZID=Europe/Berlin:20240929T090000
DTEND;TZID=Europe/Berlin:20240929T170000
DTSTAMP:20260425T181503
CREATED:20240131T194721Z
LAST-MODIFIED:20240929T143538Z
UID:40761-1727600400-1727629200@kbi-mil.de
SUMMARY:Erste Hilfe Kurs - in zwei Terminen (Sa / So)
DESCRIPTION:
URL:https://kbi-mil.de/event/erste-hilfe-kurs-in-zwei-terminen-sa-so-10
CATEGORIES:KBI
END:VEVENT
END:VCALENDAR