BEGIN:VCALENDAR
VERSION:2.0
PRODID:-//Kreisbrandinspektion Miltenberg - ECPv6.3.2//NONSGML v1.0//EN
CALSCALE:GREGORIAN
METHOD:PUBLISH
X-ORIGINAL-URL:https://kbi-mil.de
X-WR-CALDESC:Veranstaltungen für Kreisbrandinspektion Miltenberg
REFRESH-INTERVAL;VALUE=DURATION:PT1H
X-Robots-Tag:noindex
X-PUBLISHED-TTL:PT1H
BEGIN:VTIMEZONE
TZID:Europe/Berlin
BEGIN:DAYLIGHT
TZOFFSETFROM:+0100
TZOFFSETTO:+0200
TZNAME:CEST
DTSTART:20260329T010000
END:DAYLIGHT
BEGIN:STANDARD
TZOFFSETFROM:+0200
TZOFFSETTO:+0100
TZNAME:CET
DTSTART:20261025T010000
END:STANDARD
END:VTIMEZONE
BEGIN:VEVENT
DTSTART;VALUE=DATE:20260501
DTEND;VALUE=DATE:20260504
DTSTAMP:20260420T112939
CREATED:20250430T220553Z
LAST-MODIFIED:20260420T092020Z
UID:56122-1777593600-1777852799@kbi-mil.de
SUMMARY:125 Jahre FF Ottorfszell
DESCRIPTION:
URL:https://kbi-mil.de/event/125-jahre-ff-ottorfszell-2
CATEGORIES:KBI
END:VEVENT
BEGIN:VEVENT
DTSTART;TZID=Europe/Berlin:20260503T100000
DTEND;TZID=Europe/Berlin:20260503T120000
DTSTAMP:20260420T112939
CREATED:20260210T115026Z
LAST-MODIFIED:20260420T092020Z
UID:63251-1777802400-1777809600@kbi-mil.de
SUMMARY:Festakt 125 Jahre FF Ottorfszell und Frühschoppen
DESCRIPTION:
URL:https://kbi-mil.de/event/festakt-125-jahre-ff-ottorfszell-und-fruehschoppen
CATEGORIES:KBI
END:VEVENT
BEGIN:VEVENT
DTSTART;TZID=Europe/Berlin:20260506T190000
DTEND;TZID=Europe/Berlin:20260506T210000
DTSTAMP:20260420T112939
CREATED:20260402T095016Z
LAST-MODIFIED:20260420T092020Z
UID:64356-1778094000-1778101200@kbi-mil.de
SUMMARY:KEZ Übung
DESCRIPTION:
URL:https://kbi-mil.de/event/kez-uebung
LOCATION:LRA Miltenberg
CATEGORIES:KBI
END:VEVENT
BEGIN:VEVENT
DTSTART;TZID=Europe/Berlin:20260507T180000
DTEND;TZID=Europe/Berlin:20260507T200000
DTSTAMP:20260420T112939
CREATED:20260107T213527Z
LAST-MODIFIED:20260420T092020Z
UID:62206-1778176800-1778184000@kbi-mil.de
SUMMARY:Abnahme Kinderflämmchen
DESCRIPTION:
URL:https://kbi-mil.de/event/abnahme-kinderflaemmchen-26
LOCATION:Erlenbach
CATEGORIES:KBI
END:VEVENT
BEGIN:VEVENT
DTSTART;TZID=Europe/Berlin:20260508T180000
DTEND;TZID=Europe/Berlin:20260508T200000
DTSTAMP:20260420T112939
CREATED:20251108T115030Z
LAST-MODIFIED:20260420T092021Z
UID:60383-1778263200-1778270400@kbi-mil.de
SUMMARY:Leistungsprüfung THL FF Bürgstadt und FF Eichenbühl
DESCRIPTION:
URL:https://kbi-mil.de/event/leistungspruefung-thl-ff-buergstadt-und-ff-eichenbuehl
LOCATION:Festplatz an der Schule Eichenbühl
CATEGORIES:KBI
END:VEVENT
BEGIN:VEVENT
DTSTART;TZID=Europe/Berlin:20260508T180000
DTEND;TZID=Europe/Berlin:20260508T200000
DTSTAMP:20260420T112939
CREATED:20260107T213528Z
LAST-MODIFIED:20260420T092021Z
UID:62208-1778263200-1778270400@kbi-mil.de
SUMMARY:Abnahme Kinderflämmchen
DESCRIPTION:
URL:https://kbi-mil.de/event/abnahme-kinderflaemmchen-27
LOCATION:Mechenhart
CATEGORIES:KBI
END:VEVENT
BEGIN:VEVENT
DTSTART;TZID=Europe/Berlin:20260508T180000
DTEND;TZID=Europe/Berlin:20260508T200000
DTSTAMP:20260420T112939
CREATED:20260107T213528Z
LAST-MODIFIED:20260420T092021Z
UID:62209-1778263200-1778270400@kbi-mil.de
SUMMARY:Abnahme Kinderflämmchen
DESCRIPTION:
URL:https://kbi-mil.de/event/abnahme-kinderflaemmchen-28
LOCATION:Schneeberg
CATEGORIES:KBI
END:VEVENT
BEGIN:VEVENT
DTSTART;VALUE=DATE:20260509
DTEND;VALUE=DATE:20260510
DTSTAMP:20260420T112939
CREATED:20251217T172023Z
LAST-MODIFIED:20260420T092021Z
UID:61469-1778284800-1778371199@kbi-mil.de
SUMMARY:Bundeswettbewerb
DESCRIPTION:
URL:https://kbi-mil.de/event/bundeswettbewerb
LOCATION:Schweinfurt
CATEGORIES:KBI
END:VEVENT
BEGIN:VEVENT
DTSTART;VALUE=DATE:20260509
DTEND;VALUE=DATE:20260511
DTSTAMP:20260420T112939
CREATED:20251001T172628Z
LAST-MODIFIED:20260420T092021Z
UID:59242-1778284800-1778457599@kbi-mil.de
SUMMARY:Feuerwehrfest Guggenberg
DESCRIPTION:
URL:https://kbi-mil.de/event/feuerwehrfest-guggenberg
LOCATION:Guggenberg
CATEGORIES:KBI
END:VEVENT
BEGIN:VEVENT
DTSTART;TZID=Europe/Berlin:20260509T090000
DTEND;TZID=Europe/Berlin:20260509T160000
DTSTAMP:20260420T112939
CREATED:20260108T165028Z
LAST-MODIFIED:20260420T092022Z
UID:62275-1778317200-1778342400@kbi-mil.de
SUMMARY:Erste-Hilfe-Kurs in zwei Terminen (Sa / So)
DESCRIPTION:
URL:https://kbi-mil.de/event/erste-hilfe-kurs-in-zwei-terminen-sa-so-44
LOCATION:richtet sich nach den Anmeldungen
CATEGORIES:KBI
END:VEVENT
BEGIN:VEVENT
DTSTART;TZID=Europe/Berlin:20260509T100000
DTEND;TZID=Europe/Berlin:20260509T120000
DTSTAMP:20260420T112939
CREATED:20260107T213528Z
LAST-MODIFIED:20260420T092022Z
UID:62211-1778320800-1778328000@kbi-mil.de
SUMMARY:Abnahme Kinderflämmchen
DESCRIPTION:
URL:https://kbi-mil.de/event/abnahme-kinderflaemmchen-29
LOCATION:Roßbach
CATEGORIES:KBI
END:VEVENT
BEGIN:VEVENT
DTSTART;TZID=Europe/Berlin:20260510T090000
DTEND;TZID=Europe/Berlin:20260510T160000
DTSTAMP:20260420T112939
CREATED:20260108T165028Z
LAST-MODIFIED:20260420T092022Z
UID:62276-1778403600-1778428800@kbi-mil.de
SUMMARY:Erste-Hilfe-Kurs in zwei Terminen (Sa / So)
DESCRIPTION:
URL:https://kbi-mil.de/event/erste-hilfe-kurs-in-zwei-terminen-sa-so-45
LOCATION:richtet sich nach den Anmeldungen
CATEGORIES:KBI
END:VEVENT
BEGIN:VEVENT
DTSTART;TZID=Europe/Berlin:20260513T180000
DTEND;TZID=Europe/Berlin:20260513T193000
DTSTAMP:20260420T112939
CREATED:20260118T113534Z
LAST-MODIFIED:20260420T092022Z
UID:62616-1778695200-1778700600@kbi-mil.de
SUMMARY:Kinderflämmchen in Hausen
DESCRIPTION:
URL:https://kbi-mil.de/event/kinderflaemmchen-in-hausen
CATEGORIES:KBI
END:VEVENT
BEGIN:VEVENT
DTSTART;VALUE=DATE:20260516
DTEND;VALUE=DATE:20260517
DTSTAMP:20260420T112939
CREATED:20251217T172024Z
LAST-MODIFIED:20260420T092023Z
UID:61472-1778889600-1778975999@kbi-mil.de
SUMMARY:Dreiländertreffen
DESCRIPTION:
URL:https://kbi-mil.de/event/dreilaendertreffen-2
LOCATION:Michelstadt- Steinbach
CATEGORIES:KBI
END:VEVENT
BEGIN:VEVENT
DTSTART;TZID=Europe/Berlin:20260516T100000
DTEND;TZID=Europe/Berlin:20260516T180000
DTSTAMP:20260420T112939
CREATED:20251001T172629Z
LAST-MODIFIED:20260420T092023Z
UID:59244-1778925600-1778954400@kbi-mil.de
SUMMARY:Dreiländertreffen ODW
DESCRIPTION:
URL:https://kbi-mil.de/event/dreilaendertreffen-odw
LOCATION:Michelstadt-Steinbach
CATEGORIES:KBI
END:VEVENT
BEGIN:VEVENT
DTSTART;VALUE=DATE:20260517
DTEND;VALUE=DATE:20260518
DTSTAMP:20260420T112939
CREATED:20251217T172023Z
LAST-MODIFIED:20260420T092023Z
UID:61470-1778976000-1779062399@kbi-mil.de
SUMMARY:Feuerwehr meets Römerlauf
DESCRIPTION:
URL:https://kbi-mil.de/event/feuerwehr-meets-roemerlauf
CATEGORIES:KBI
END:VEVENT
BEGIN:VEVENT
DTSTART;TZID=Europe/Berlin:20260519T183000
DTEND;TZID=Europe/Berlin:20260519T223000
DTSTAMP:20260420T112939
CREATED:20251217T172024Z
LAST-MODIFIED:20260420T092023Z
UID:61473-1779215400-1779229800@kbi-mil.de
SUMMARY:KJF-Sitzung
DESCRIPTION:
URL:https://kbi-mil.de/event/kjf-sitzung-5
CATEGORIES:KBI
END:VEVENT
BEGIN:VEVENT
DTSTART;VALUE=DATE:20260520
DTEND;VALUE=DATE:20260521
DTSTAMP:20260420T112939
CREATED:20251217T172024Z
LAST-MODIFIED:20260420T092023Z
UID:61474-1779235200-1779321599@kbi-mil.de
SUMMARY:Delegiertenversammlung JF-Bayern
DESCRIPTION:
URL:https://kbi-mil.de/event/delegiertenversammlung-jf-bayern-2
CATEGORIES:KBI
END:VEVENT
BEGIN:VEVENT
DTSTART;TZID=Europe/Berlin:20260520T190000
DTEND;TZID=Europe/Berlin:20260520T210000
DTSTAMP:20260420T112939
CREATED:20260107T213529Z
LAST-MODIFIED:20260420T092023Z
UID:62212-1779303600-1779310800@kbi-mil.de
SUMMARY:Abnahme Jugendflamme
DESCRIPTION:
URL:https://kbi-mil.de/event/abnahme-jugendflamme-10
LOCATION:Röllbach
CATEGORIES:KBI
END:VEVENT
BEGIN:VEVENT
DTSTART;TZID=Europe/Berlin:20260522T180000
DTEND;TZID=Europe/Berlin:20260522T200000
DTSTAMP:20260420T112939
CREATED:20251218T190522Z
LAST-MODIFIED:20260420T092024Z
UID:61551-1779472800-1779480000@kbi-mil.de
SUMMARY:MTA-Abschlussprüfung
DESCRIPTION:
URL:https://kbi-mil.de/event/mta-abschlusspruefung-17
LOCATION:richtet sich nach den Anmeldungen
CATEGORIES:KBI
END:VEVENT
BEGIN:VEVENT
DTSTART;TZID=Europe/Berlin:20260522T190000
DTEND;TZID=Europe/Berlin:20260522T220000
DTSTAMP:20260420T112939
CREATED:20260215T175027Z
LAST-MODIFIED:20260420T092024Z
UID:63402-1779476400-1779487200@kbi-mil.de
SUMMARY:Betreuer und Jugendwartstammtisch
DESCRIPTION:
URL:https://kbi-mil.de/event/betreuer-und-jugendwartstammtisch-4
CATEGORIES:KBI
END:VEVENT
BEGIN:VEVENT
DTSTART;TZID=Europe/Berlin:20260523T090000
DTEND;TZID=Europe/Berlin:20260523T110000
DTSTAMP:20260420T112939
CREATED:20260118T125028Z
LAST-MODIFIED:20260420T092024Z
UID:62622-1779526800-1779534000@kbi-mil.de
SUMMARY:Leistungsprüfung Wasser FF Röllfeld
DESCRIPTION:
URL:https://kbi-mil.de/event/leistungspruefung-wasser-ff-roellfeld
LOCATION:Feuerwehrhaus Röllfeld\, Stefanstr. 6
CATEGORIES:KBI
END:VEVENT
BEGIN:VEVENT
DTSTART;TZID=Europe/Berlin:20260530T160000
DTEND;TZID=Europe/Berlin:20260530T180000
DTSTAMP:20260420T112939
CREATED:20251212T163519Z
LAST-MODIFIED:20260420T092024Z
UID:61298-1780156800-1780164000@kbi-mil.de
SUMMARY:Leistungsprüfung Wasser FF Neunkirchen FF Umpfenbach FF Richelbach
DESCRIPTION:
URL:https://kbi-mil.de/event/leistungspruefung-wasser-ff-neunkirchen-ff-umpfenbach-ff-richelbach
LOCATION:Bushaltestelle Umpfenbach Schloßstr.
CATEGORIES:KBI
END:VEVENT
END:VCALENDAR