BEGIN:VCALENDAR
VERSION:2.0
PRODID:-//Kreisbrandinspektion Miltenberg - ECPv6.3.2//NONSGML v1.0//EN
CALSCALE:GREGORIAN
METHOD:PUBLISH
X-WR-CALNAME:Kreisbrandinspektion Miltenberg
X-ORIGINAL-URL:https://kbi-mil.de
X-WR-CALDESC:Veranstaltungen für Kreisbrandinspektion Miltenberg
REFRESH-INTERVAL;VALUE=DURATION:PT1H
X-Robots-Tag:noindex
X-PUBLISHED-TTL:PT1H
BEGIN:VTIMEZONE
TZID:Europe/Berlin
BEGIN:DAYLIGHT
TZOFFSETFROM:+0100
TZOFFSETTO:+0200
TZNAME:CEST
DTSTART:20260329T010000
END:DAYLIGHT
BEGIN:STANDARD
TZOFFSETFROM:+0200
TZOFFSETTO:+0100
TZNAME:CET
DTSTART:20261025T010000
END:STANDARD
END:VTIMEZONE
BEGIN:VEVENT
DTSTART;VALUE=DATE:20260703
DTEND;VALUE=DATE:20260706
DTSTAMP:20260424T105824
CREATED:20250720T192037Z
LAST-MODIFIED:20260424T083544Z
UID:58304-1783036800-1783295999@kbi-mil.de
SUMMARY:150 Jahre FF Kleinwallstadt
DESCRIPTION:
URL:https://kbi-mil.de/event/150-jahre-ff-kleinwallstadt
CATEGORIES:KBI
END:VEVENT
BEGIN:VEVENT
DTSTART;VALUE=DATE:20260704
DTEND;VALUE=DATE:20260706
DTSTAMP:20260424T105824
CREATED:20251017T075040Z
LAST-MODIFIED:20260424T083544Z
UID:59740-1783123200-1783295999@kbi-mil.de
SUMMARY:150 Jahre FF Faulbach
DESCRIPTION:
URL:https://kbi-mil.de/event/150-jahre-ff-faulbach
CATEGORIES:KBI
END:VEVENT
BEGIN:VEVENT
DTSTART;TZID=Europe/Berlin:20260704T090000
DTEND;TZID=Europe/Berlin:20260704T160000
DTSTAMP:20260424T105824
CREATED:20260108T165033Z
LAST-MODIFIED:20260424T083543Z
UID:62280-1783155600-1783180800@kbi-mil.de
SUMMARY:Erste-Hilfe-Kurs in zwei Terminen (Sa / So)
DESCRIPTION:
URL:https://kbi-mil.de/event/erste-hilfe-kurs-in-zwei-terminen-sa-so-46
LOCATION:richtet sich nach den Anmeldungen
CATEGORIES:KBI
END:VEVENT
BEGIN:VEVENT
DTSTART;TZID=Europe/Berlin:20260704T160000
DTEND;TZID=Europe/Berlin:20260704T180000
DTSTAMP:20260424T105824
CREATED:20251213T170520Z
LAST-MODIFIED:20260424T083543Z
UID:61338-1783180800-1783188000@kbi-mil.de
SUMMARY:Leistungsprüfung THL FF Sulzbach FF Soden
DESCRIPTION:
URL:https://kbi-mil.de/event/leistungspruefung-thl-ff-sulzbach-ff-soden
LOCATION:Feuerwehrhaus Sulzbach Spessartstr. 124
CATEGORIES:KBI
END:VEVENT
BEGIN:VEVENT
DTSTART;TZID=Europe/Berlin:20260705T090000
DTEND;TZID=Europe/Berlin:20260705T160000
DTSTAMP:20260424T105824
CREATED:20260108T165034Z
LAST-MODIFIED:20260424T083544Z
UID:62281-1783242000-1783267200@kbi-mil.de
SUMMARY:Erste-Hilfe-Kurs in zwei Terminen (Sa / So)
DESCRIPTION:
URL:https://kbi-mil.de/event/erste-hilfe-kurs-in-zwei-terminen-sa-so-47
LOCATION:richtet sich nach den Anmeldungen
CATEGORIES:KBI
END:VEVENT
BEGIN:VEVENT
DTSTART;TZID=Europe/Berlin:20260706T180000
DTEND;TZID=Europe/Berlin:20260706T200000
DTSTAMP:20260424T105824
CREATED:20260107T213533Z
LAST-MODIFIED:20260424T083544Z
UID:62219-1783360800-1783368000@kbi-mil.de
SUMMARY:Abnahme Kinderflämmchen
DESCRIPTION:
URL:https://kbi-mil.de/event/abnahme-kinderflaemmchen-33
LOCATION:Wörth am Main Bayern\, Deutschland
CATEGORIES:KBI
END:VEVENT
BEGIN:VEVENT
DTSTART;TZID=Europe/Berlin:20260708T180000
DTEND;TZID=Europe/Berlin:20260708T200000
DTSTAMP:20260424T105824
CREATED:20260107T213533Z
LAST-MODIFIED:20260424T083544Z
UID:62220-1783533600-1783540800@kbi-mil.de
SUMMARY:Abnahme Kinderflämmchen
DESCRIPTION:
URL:https://kbi-mil.de/event/abnahme-kinderflaemmchen-34
LOCATION:Stadtprozelten
CATEGORIES:KBI
END:VEVENT
BEGIN:VEVENT
DTSTART;TZID=Europe/Berlin:20260710T180000
DTEND;TZID=Europe/Berlin:20260710T200000
DTSTAMP:20260424T105824
CREATED:20260222T192033Z
LAST-MODIFIED:20260424T083544Z
UID:63576-1783706400-1783713600@kbi-mil.de
SUMMARY:Leistungsprüfung THL FF Obernburg
DESCRIPTION:
URL:https://kbi-mil.de/event/leistungspruefung-thl-ff-obernburg-2
LOCATION:Feuerwehrhaus Obernburg\, Jahnstr. 2b
CATEGORIES:KBI
END:VEVENT
BEGIN:VEVENT
DTSTART;VALUE=DATE:20260711
DTEND;VALUE=DATE:20260712
DTSTAMP:20260424T105824
CREATED:20251010T190530Z
LAST-MODIFIED:20260424T083545Z
UID:59503-1783728000-1783814399@kbi-mil.de
SUMMARY:Wettspiele in Leidersbach
DESCRIPTION:
URL:https://kbi-mil.de/event/wettspiele-in-leidersbach
LOCATION:Leidersbach Feuerwehrgerätehaus (236B Hauptstr.\, \, 63849 Leidersbach Bayern\, Deutschland)
CATEGORIES:KBI
END:VEVENT
BEGIN:VEVENT
DTSTART;TZID=Europe/Berlin:20260711T100000
DTEND;TZID=Europe/Berlin:20260711T120000
DTSTAMP:20260424T105824
CREATED:20260107T213533Z
LAST-MODIFIED:20260424T083545Z
UID:62221-1783764000-1783771200@kbi-mil.de
SUMMARY:Abnahme Kinderflämmchen
DESCRIPTION:
URL:https://kbi-mil.de/event/abnahme-kinderflaemmchen-35
LOCATION:Collenberg
CATEGORIES:KBI
END:VEVENT
BEGIN:VEVENT
DTSTART;TZID=Europe/Berlin:20260711T140000
DTEND;TZID=Europe/Berlin:20260711T160000
DTSTAMP:20260424T105824
CREATED:20260108T190535Z
LAST-MODIFIED:20260424T083545Z
UID:62296-1783778400-1783785600@kbi-mil.de
SUMMARY:Leistungsprüfung Wasser FF Dorfprozelten FF Stadtprozelten
DESCRIPTION:
URL:https://kbi-mil.de/event/leistungspruefung-wasser-ff-dorfprozelten-ff-stadtprozelten
LOCATION:Feuerwehrhaus Stadtprozelten Brandenburger Str. 7
CATEGORIES:KBI
END:VEVENT
BEGIN:VEVENT
DTSTART;TZID=Europe/Berlin:20260712T090000
DTEND;TZID=Europe/Berlin:20260712T170000
DTSTAMP:20260424T105824
CREATED:20251112T183527Z
LAST-MODIFIED:20260424T083545Z
UID:60502-1783846800-1783875600@kbi-mil.de
SUMMARY:130 Jahre FF Leidersbach
DESCRIPTION:
URL:https://kbi-mil.de/event/130-jahre-ff-leidersbach
CATEGORIES:KBI
END:VEVENT
BEGIN:VEVENT
DTSTART;TZID=Europe/Berlin:20260713T190000
DTEND;TZID=Europe/Berlin:20260713T210000
DTSTAMP:20260424T105824
CREATED:20260107T213534Z
LAST-MODIFIED:20260424T083545Z
UID:62222-1783969200-1783976400@kbi-mil.de
SUMMARY:Abnahme Jugendflamme
DESCRIPTION:
URL:https://kbi-mil.de/event/abnahme-jugendflamme-13
LOCATION:Hausen
CATEGORIES:KBI
END:VEVENT
BEGIN:VEVENT
DTSTART;TZID=Europe/Berlin:20260714T183000
DTEND;TZID=Europe/Berlin:20260714T223000
DTSTAMP:20260424T105824
CREATED:20251217T172027Z
LAST-MODIFIED:20260424T083546Z
UID:61477-1784053800-1784068200@kbi-mil.de
SUMMARY:KJF-Sitzung
DESCRIPTION:
URL:https://kbi-mil.de/event/kjf-sitzung-7
CATEGORIES:KBI
END:VEVENT
BEGIN:VEVENT
DTSTART;VALUE=DATE:20260718
DTEND;VALUE=DATE:20260720
DTSTAMP:20260424T105824
CREATED:20251001T172630Z
LAST-MODIFIED:20260424T083546Z
UID:59247-1784332800-1784505599@kbi-mil.de
SUMMARY:50 Jahre Jugend und 5 Jahre Kinderfeuerwehr Kleinheubach
DESCRIPTION:
URL:https://kbi-mil.de/event/50-jahre-jugend-und-5-jahre-kinderfeuerwehr-kleinheubach-2
LOCATION:Feuerwehr Kleinheubach
CATEGORIES:KBI
END:VEVENT
BEGIN:VEVENT
DTSTART;TZID=Europe/Berlin:20260718T160000
DTEND;TZID=Europe/Berlin:20260718T210000
DTSTAMP:20260424T105824
CREATED:20250813T202031Z
LAST-MODIFIED:20260424T083546Z
UID:58966-1784390400-1784408400@kbi-mil.de
SUMMARY:Sommerfest Kreisbrandinspektion
DESCRIPTION:
URL:https://kbi-mil.de/event/sommerfest-kreisbrandinspektion
LOCATION:Erlebnisbauernhof Schäfer\, Amorbacher Straße 3\, 63931 Kirchzell
CATEGORIES:KBI
END:VEVENT
BEGIN:VEVENT
DTSTART;TZID=Europe/Berlin:20260718T180000
DTEND;TZID=Europe/Berlin:20260718T220000
DTSTAMP:20260424T105824
CREATED:20251217T172026Z
LAST-MODIFIED:20260424T083546Z
UID:61476-1784397600-1784412000@kbi-mil.de
SUMMARY:Kinderwartstammtisch (Sommerlicher Grillabend)
DESCRIPTION:
URL:https://kbi-mil.de/event/kinderwartstammtisch-sommerlicher-grillabend
CATEGORIES:KBI
END:VEVENT
BEGIN:VEVENT
DTSTART;TZID=Europe/Berlin:20260722T190000
DTEND;TZID=Europe/Berlin:20260722T210000
DTSTAMP:20260424T105824
CREATED:20260305T120534Z
LAST-MODIFIED:20260424T083546Z
UID:63889-1784746800-1784754000@kbi-mil.de
SUMMARY:Präsentation LZG Miltenberg
DESCRIPTION:Hallo\,\nIn der Januar-Sitzung wurde ein LZG-Treffen vorgeschlagen\, bei welchem jede Feuerwehr das eingeplante Fahrzeug den anderen Mitgliedern des LZGs vorstellt.\nDeswegen lade ich euch zum LZG-Treffen am\nWann:  Mittwoch\, 22.07.2026 um 19:00 Uhr\nWo:       Festplatz Obernburg\nein.\nHier soll jede beteiligte Feuerwehr Ihr eingeplantes Fahrzeug vorstellen:\n  *   RW Collenberg\n  *   RW Wörth\n  *   AB-AS Miltenberg\n  *   AB-G Trennfurt\n  *   Dekon-P Leidersbach\n  *   MLK/ELW Erlenbach.\nGeplant ist\, dass 2-3 Mann am Fahrzeug selbst bleiben und die restliche Mannschaft im Sinne einer Stationsausbildung sich die anderen Fahrzeuge anschaut und erklären lässt.\nDie Vorstellung pro Station soll ca. 15min (max. 20min) betragen um den zeitlichen Rahmen nicht zu sprengen.\nKurz vor dem Termin melde ich mich nochmal mit einem Plan zur Fahrzeugaufstellung.\nMit kameradschaftlichen Grüßen\,\nHelge Killinger
URL:https://kbi-mil.de/event/praesentation-lzg-miltenberg
LOCATION:Festplatz Obernburg am Main (63785 Obernburg am Main Bayern\, Deutschland)
CATEGORIES:KBI
END:VEVENT
BEGIN:VEVENT
DTSTART;TZID=Europe/Berlin:20260725T090000
DTEND;TZID=Europe/Berlin:20260725T110000
DTSTAMP:20260424T105824
CREATED:20251218T190525Z
LAST-MODIFIED:20260424T083547Z
UID:61552-1784970000-1784977200@kbi-mil.de
SUMMARY:MTA-Abschlussprüfung
DESCRIPTION:
URL:https://kbi-mil.de/event/mta-abschlusspruefung-18
LOCATION:richtet sich nach den Anmeldungen
CATEGORIES:KBI
END:VEVENT
BEGIN:VEVENT
DTSTART;TZID=Europe/Berlin:20260725T100000
DTEND;TZID=Europe/Berlin:20260725T120000
DTSTAMP:20260424T105824
CREATED:20260103T165025Z
LAST-MODIFIED:20260424T083547Z
UID:62069-1784973600-1784980800@kbi-mil.de
SUMMARY:BJLP
DESCRIPTION:
URL:https://kbi-mil.de/event/bjlp
LOCATION:Aschaffenburg
CATEGORIES:KBI
END:VEVENT
BEGIN:VEVENT
DTSTART;TZID=Europe/Berlin:20260725T100000
DTEND;TZID=Europe/Berlin:20260725T120000
DTSTAMP:20260424T105824
CREATED:20260103T235024Z
LAST-MODIFIED:20260424T083547Z
UID:62083-1784973600-1784980800@kbi-mil.de
SUMMARY:Leistungsprüfung THL FF Kleinwallstadt FF Hausen FF Hofstetten
DESCRIPTION:
URL:https://kbi-mil.de/event/leistungspruefung-thl-ff-kleinwallstadt-ff-hausen-ff-hofstetten
LOCATION:Feuerwehrhaus Kleinwallstadt Ostring 112
CATEGORIES:KBI
END:VEVENT
BEGIN:VEVENT
DTSTART;TZID=Europe/Berlin:20260729T180000
DTEND;TZID=Europe/Berlin:20260729T200000
DTSTAMP:20260424T105824
CREATED:20260107T213535Z
LAST-MODIFIED:20260424T083547Z
UID:62224-1785348000-1785355200@kbi-mil.de
SUMMARY:Abnahme Kinderflämmchen
DESCRIPTION:
URL:https://kbi-mil.de/event/abnahme-kinderflaemmchen-36
LOCATION:Sulzbach
CATEGORIES:KBI
END:VEVENT
END:VCALENDAR